BEGIN:VCALENDAR
VERSION:2.0
PRODID:-//Hedland Senior High School - ECPv6.15.20//NONSGML v1.0//EN
CALSCALE:GREGORIAN
METHOD:PUBLISH
X-ORIGINAL-URL:https://hedlandshs.wa.edu.au
X-WR-CALDESC:Events for Hedland Senior High School
REFRESH-INTERVAL;VALUE=DURATION:PT1H
X-Robots-Tag:noindex
X-PUBLISHED-TTL:PT1H
BEGIN:VTIMEZONE
TZID:Australia/Perth
BEGIN:STANDARD
TZOFFSETFROM:+0800
TZOFFSETTO:+0800
TZNAME:AWST
DTSTART:20230101T000000
END:STANDARD
END:VTIMEZONE
BEGIN:VEVENT
DTSTART;TZID=Australia/Perth:20240902T080500
DTEND;TZID=Australia/Perth:20240903T141500
DTSTAMP:20260424T103554
CREATED:20240826T061920Z
LAST-MODIFIED:20240826T061920Z
UID:10000272-1725264300-1725372900@hedlandshs.wa.edu.au
SUMMARY:Y10 OLNA (Writing)
DESCRIPTION:
URL:https://hedlandshs.wa.edu.au/calendar/y10-olna-writing/
CATEGORIES:Exams & Testing
END:VEVENT
BEGIN:VEVENT
DTSTART;TZID=Australia/Perth:20240902T080500
DTEND;TZID=Australia/Perth:20240913T141500
DTSTAMP:20260424T103554
CREATED:20240826T061742Z
LAST-MODIFIED:20240826T062103Z
UID:10000271-1725264300-1726236900@hedlandshs.wa.edu.au
SUMMARY:Y11 & Y12 OLNA (Numeracy & Reading)
DESCRIPTION:
URL:https://hedlandshs.wa.edu.au/calendar/y11-y12-olna/
CATEGORIES:Exams & Testing
END:VEVENT
BEGIN:VEVENT
DTSTART;TZID=Australia/Perth:20240902T080500
DTEND;TZID=Australia/Perth:20240913T141500
DTSTAMP:20260424T103554
CREATED:20240826T062018Z
LAST-MODIFIED:20240826T062018Z
UID:10000273-1725264300-1726236900@hedlandshs.wa.edu.au
SUMMARY:Y10 OLNA (Numeracy & Reading)
DESCRIPTION:
URL:https://hedlandshs.wa.edu.au/calendar/y10-olna-numeracy-reading/
CATEGORIES:Exams & Testing
END:VEVENT
BEGIN:VEVENT
DTSTART;TZID=Australia/Perth:20240916T080500
DTEND;TZID=Australia/Perth:20240920T141500
DTSTAMP:20260424T103554
CREATED:20240826T063627Z
LAST-MODIFIED:20240826T063627Z
UID:10000290-1726473900-1726841700@hedlandshs.wa.edu.au
SUMMARY:Year 12 SIDE Exams
DESCRIPTION:
URL:https://hedlandshs.wa.edu.au/calendar/year-12-side-exams/
CATEGORIES:Exams & Testing
END:VEVENT
END:VCALENDAR