BEGIN:VCALENDAR
VERSION:2.0
PRODID:-//Hedland Senior High School - ECPv6.15.20//NONSGML v1.0//EN
CALSCALE:GREGORIAN
METHOD:PUBLISH
X-ORIGINAL-URL:https://hedlandshs.wa.edu.au
X-WR-CALDESC:Events for Hedland Senior High School
REFRESH-INTERVAL;VALUE=DURATION:PT1H
X-Robots-Tag:noindex
X-PUBLISHED-TTL:PT1H
BEGIN:VTIMEZONE
TZID:Australia/Perth
BEGIN:STANDARD
TZOFFSETFROM:+0800
TZOFFSETTO:+0800
TZNAME:AWST
DTSTART:20260101T000000
END:STANDARD
END:VTIMEZONE
BEGIN:VEVENT
DTSTART;TZID=Australia/Perth:20270329T141500
DTEND;TZID=Australia/Perth:20270329T160000
DTSTAMP:20260419T233848
CREATED:20240920T054537Z
LAST-MODIFIED:20240920T054633Z
UID:10001589-1806329700-1806336000@hedlandshs.wa.edu.au
SUMMARY:Specialist Arts Program
DESCRIPTION:
URL:https://hedlandshs.wa.edu.au/calendar/specialist-arts-program-3/2027-03-29/
END:VEVENT
BEGIN:VEVENT
DTSTART;TZID=Australia/Perth:20270330T141500
DTEND;TZID=Australia/Perth:20270330T160000
DTSTAMP:20260419T233848
CREATED:20240920T054331Z
LAST-MODIFIED:20240920T054331Z
UID:10001203-1806416100-1806422400@hedlandshs.wa.edu.au
SUMMARY:Coding Club & Makerspace
DESCRIPTION:
URL:https://hedlandshs.wa.edu.au/calendar/coding-club-makerspace-2/2027-03-30/
END:VEVENT
BEGIN:VEVENT
DTSTART;TZID=Australia/Perth:20270330T141500
DTEND;TZID=Australia/Perth:20270330T160000
DTSTAMP:20260419T233848
CREATED:20240920T054537Z
LAST-MODIFIED:20240920T054633Z
UID:10001590-1806416100-1806422400@hedlandshs.wa.edu.au
SUMMARY:Specialist Arts Program
DESCRIPTION:
URL:https://hedlandshs.wa.edu.au/calendar/specialist-arts-program-3/2027-03-30/
END:VEVENT
BEGIN:VEVENT
DTSTART;TZID=Australia/Perth:20270405T141500
DTEND;TZID=Australia/Perth:20270405T160000
DTSTAMP:20260419T233848
CREATED:20240920T054537Z
LAST-MODIFIED:20240920T054633Z
UID:10001591-1806934500-1806940800@hedlandshs.wa.edu.au
SUMMARY:Specialist Arts Program
DESCRIPTION:
URL:https://hedlandshs.wa.edu.au/calendar/specialist-arts-program-3/2027-04-05/
END:VEVENT
BEGIN:VEVENT
DTSTART;TZID=Australia/Perth:20270406T141500
DTEND;TZID=Australia/Perth:20270406T160000
DTSTAMP:20260419T233848
CREATED:20240920T054331Z
LAST-MODIFIED:20240920T054331Z
UID:10001204-1807020900-1807027200@hedlandshs.wa.edu.au
SUMMARY:Coding Club & Makerspace
DESCRIPTION:
URL:https://hedlandshs.wa.edu.au/calendar/coding-club-makerspace-2/2027-04-06/
END:VEVENT
BEGIN:VEVENT
DTSTART;TZID=Australia/Perth:20270406T141500
DTEND;TZID=Australia/Perth:20270406T160000
DTSTAMP:20260419T233848
CREATED:20240920T054537Z
LAST-MODIFIED:20240920T054633Z
UID:10001592-1807020900-1807027200@hedlandshs.wa.edu.au
SUMMARY:Specialist Arts Program
DESCRIPTION:
URL:https://hedlandshs.wa.edu.au/calendar/specialist-arts-program-3/2027-04-06/
END:VEVENT
BEGIN:VEVENT
DTSTART;TZID=Australia/Perth:20270412T141500
DTEND;TZID=Australia/Perth:20270412T160000
DTSTAMP:20260419T233848
CREATED:20240920T054537Z
LAST-MODIFIED:20240920T054633Z
UID:10001593-1807539300-1807545600@hedlandshs.wa.edu.au
SUMMARY:Specialist Arts Program
DESCRIPTION:
URL:https://hedlandshs.wa.edu.au/calendar/specialist-arts-program-3/2027-04-12/
END:VEVENT
BEGIN:VEVENT
DTSTART;TZID=Australia/Perth:20270413T141500
DTEND;TZID=Australia/Perth:20270413T160000
DTSTAMP:20260419T233848
CREATED:20240920T054331Z
LAST-MODIFIED:20240920T054331Z
UID:10001205-1807625700-1807632000@hedlandshs.wa.edu.au
SUMMARY:Coding Club & Makerspace
DESCRIPTION:
URL:https://hedlandshs.wa.edu.au/calendar/coding-club-makerspace-2/2027-04-13/
END:VEVENT
BEGIN:VEVENT
DTSTART;TZID=Australia/Perth:20270413T141500
DTEND;TZID=Australia/Perth:20270413T160000
DTSTAMP:20260419T233848
CREATED:20240920T054537Z
LAST-MODIFIED:20240920T054633Z
UID:10001594-1807625700-1807632000@hedlandshs.wa.edu.au
SUMMARY:Specialist Arts Program
DESCRIPTION:
URL:https://hedlandshs.wa.edu.au/calendar/specialist-arts-program-3/2027-04-13/
END:VEVENT
BEGIN:VEVENT
DTSTART;TZID=Australia/Perth:20270419T141500
DTEND;TZID=Australia/Perth:20270419T160000
DTSTAMP:20260419T233848
CREATED:20240920T054537Z
LAST-MODIFIED:20240920T054633Z
UID:10001595-1808144100-1808150400@hedlandshs.wa.edu.au
SUMMARY:Specialist Arts Program
DESCRIPTION:
URL:https://hedlandshs.wa.edu.au/calendar/specialist-arts-program-3/2027-04-19/
END:VEVENT
BEGIN:VEVENT
DTSTART;TZID=Australia/Perth:20270420T141500
DTEND;TZID=Australia/Perth:20270420T160000
DTSTAMP:20260419T233848
CREATED:20240920T054331Z
LAST-MODIFIED:20240920T054331Z
UID:10001206-1808230500-1808236800@hedlandshs.wa.edu.au
SUMMARY:Coding Club & Makerspace
DESCRIPTION:
URL:https://hedlandshs.wa.edu.au/calendar/coding-club-makerspace-2/2027-04-20/
END:VEVENT
BEGIN:VEVENT
DTSTART;TZID=Australia/Perth:20270420T141500
DTEND;TZID=Australia/Perth:20270420T160000
DTSTAMP:20260419T233848
CREATED:20240920T054537Z
LAST-MODIFIED:20240920T054633Z
UID:10001596-1808230500-1808236800@hedlandshs.wa.edu.au
SUMMARY:Specialist Arts Program
DESCRIPTION:
URL:https://hedlandshs.wa.edu.au/calendar/specialist-arts-program-3/2027-04-20/
END:VEVENT
BEGIN:VEVENT
DTSTART;TZID=Australia/Perth:20270426T141500
DTEND;TZID=Australia/Perth:20270426T160000
DTSTAMP:20260419T233848
CREATED:20240920T054537Z
LAST-MODIFIED:20240920T054633Z
UID:10001597-1808748900-1808755200@hedlandshs.wa.edu.au
SUMMARY:Specialist Arts Program
DESCRIPTION:
URL:https://hedlandshs.wa.edu.au/calendar/specialist-arts-program-3/2027-04-26/
END:VEVENT
BEGIN:VEVENT
DTSTART;TZID=Australia/Perth:20270427T141500
DTEND;TZID=Australia/Perth:20270427T160000
DTSTAMP:20260419T233848
CREATED:20240920T054331Z
LAST-MODIFIED:20240920T054331Z
UID:10001207-1808835300-1808841600@hedlandshs.wa.edu.au
SUMMARY:Coding Club & Makerspace
DESCRIPTION:
URL:https://hedlandshs.wa.edu.au/calendar/coding-club-makerspace-2/2027-04-27/
END:VEVENT
BEGIN:VEVENT
DTSTART;TZID=Australia/Perth:20270427T141500
DTEND;TZID=Australia/Perth:20270427T160000
DTSTAMP:20260419T233848
CREATED:20240920T054537Z
LAST-MODIFIED:20240920T054633Z
UID:10001598-1808835300-1808841600@hedlandshs.wa.edu.au
SUMMARY:Specialist Arts Program
DESCRIPTION:
URL:https://hedlandshs.wa.edu.au/calendar/specialist-arts-program-3/2027-04-27/
END:VEVENT
BEGIN:VEVENT
DTSTART;TZID=Australia/Perth:20270503T141500
DTEND;TZID=Australia/Perth:20270503T160000
DTSTAMP:20260419T233848
CREATED:20240920T054537Z
LAST-MODIFIED:20240920T054633Z
UID:10001599-1809353700-1809360000@hedlandshs.wa.edu.au
SUMMARY:Specialist Arts Program
DESCRIPTION:
URL:https://hedlandshs.wa.edu.au/calendar/specialist-arts-program-3/2027-05-03/
END:VEVENT
BEGIN:VEVENT
DTSTART;TZID=Australia/Perth:20270504T141500
DTEND;TZID=Australia/Perth:20270504T160000
DTSTAMP:20260419T233848
CREATED:20240920T054331Z
LAST-MODIFIED:20240920T054331Z
UID:10001208-1809440100-1809446400@hedlandshs.wa.edu.au
SUMMARY:Coding Club & Makerspace
DESCRIPTION:
URL:https://hedlandshs.wa.edu.au/calendar/coding-club-makerspace-2/2027-05-04/
END:VEVENT
BEGIN:VEVENT
DTSTART;TZID=Australia/Perth:20270504T141500
DTEND;TZID=Australia/Perth:20270504T160000
DTSTAMP:20260419T233848
CREATED:20240920T054537Z
LAST-MODIFIED:20240920T054633Z
UID:10001600-1809440100-1809446400@hedlandshs.wa.edu.au
SUMMARY:Specialist Arts Program
DESCRIPTION:
URL:https://hedlandshs.wa.edu.au/calendar/specialist-arts-program-3/2027-05-04/
END:VEVENT
BEGIN:VEVENT
DTSTART;TZID=Australia/Perth:20270510T141500
DTEND;TZID=Australia/Perth:20270510T160000
DTSTAMP:20260419T233848
CREATED:20240920T054537Z
LAST-MODIFIED:20240920T054633Z
UID:10001601-1809958500-1809964800@hedlandshs.wa.edu.au
SUMMARY:Specialist Arts Program
DESCRIPTION:
URL:https://hedlandshs.wa.edu.au/calendar/specialist-arts-program-3/2027-05-10/
END:VEVENT
BEGIN:VEVENT
DTSTART;TZID=Australia/Perth:20270511T141500
DTEND;TZID=Australia/Perth:20270511T160000
DTSTAMP:20260419T233848
CREATED:20240920T054331Z
LAST-MODIFIED:20240920T054331Z
UID:10001209-1810044900-1810051200@hedlandshs.wa.edu.au
SUMMARY:Coding Club & Makerspace
DESCRIPTION:
URL:https://hedlandshs.wa.edu.au/calendar/coding-club-makerspace-2/2027-05-11/
END:VEVENT
BEGIN:VEVENT
DTSTART;TZID=Australia/Perth:20270511T141500
DTEND;TZID=Australia/Perth:20270511T160000
DTSTAMP:20260419T233848
CREATED:20240920T054537Z
LAST-MODIFIED:20240920T054633Z
UID:10001602-1810044900-1810051200@hedlandshs.wa.edu.au
SUMMARY:Specialist Arts Program
DESCRIPTION:
URL:https://hedlandshs.wa.edu.au/calendar/specialist-arts-program-3/2027-05-11/
END:VEVENT
BEGIN:VEVENT
DTSTART;TZID=Australia/Perth:20270517T141500
DTEND;TZID=Australia/Perth:20270517T160000
DTSTAMP:20260419T233848
CREATED:20240920T054537Z
LAST-MODIFIED:20240920T054633Z
UID:10001603-1810563300-1810569600@hedlandshs.wa.edu.au
SUMMARY:Specialist Arts Program
DESCRIPTION:
URL:https://hedlandshs.wa.edu.au/calendar/specialist-arts-program-3/2027-05-17/
END:VEVENT
BEGIN:VEVENT
DTSTART;TZID=Australia/Perth:20270518T141500
DTEND;TZID=Australia/Perth:20270518T160000
DTSTAMP:20260419T233848
CREATED:20240920T054331Z
LAST-MODIFIED:20240920T054331Z
UID:10001210-1810649700-1810656000@hedlandshs.wa.edu.au
SUMMARY:Coding Club & Makerspace
DESCRIPTION:
URL:https://hedlandshs.wa.edu.au/calendar/coding-club-makerspace-2/2027-05-18/
END:VEVENT
BEGIN:VEVENT
DTSTART;TZID=Australia/Perth:20270518T141500
DTEND;TZID=Australia/Perth:20270518T160000
DTSTAMP:20260419T233848
CREATED:20240920T054537Z
LAST-MODIFIED:20240920T054633Z
UID:10001604-1810649700-1810656000@hedlandshs.wa.edu.au
SUMMARY:Specialist Arts Program
DESCRIPTION:
URL:https://hedlandshs.wa.edu.au/calendar/specialist-arts-program-3/2027-05-18/
END:VEVENT
BEGIN:VEVENT
DTSTART;TZID=Australia/Perth:20270524T141500
DTEND;TZID=Australia/Perth:20270524T160000
DTSTAMP:20260419T233848
CREATED:20240920T054537Z
LAST-MODIFIED:20240920T054633Z
UID:10001605-1811168100-1811174400@hedlandshs.wa.edu.au
SUMMARY:Specialist Arts Program
DESCRIPTION:
URL:https://hedlandshs.wa.edu.au/calendar/specialist-arts-program-3/2027-05-24/
END:VEVENT
BEGIN:VEVENT
DTSTART;TZID=Australia/Perth:20270525T141500
DTEND;TZID=Australia/Perth:20270525T160000
DTSTAMP:20260419T233848
CREATED:20240920T054331Z
LAST-MODIFIED:20240920T054331Z
UID:10001211-1811254500-1811260800@hedlandshs.wa.edu.au
SUMMARY:Coding Club & Makerspace
DESCRIPTION:
URL:https://hedlandshs.wa.edu.au/calendar/coding-club-makerspace-2/2027-05-25/
END:VEVENT
BEGIN:VEVENT
DTSTART;TZID=Australia/Perth:20270525T141500
DTEND;TZID=Australia/Perth:20270525T160000
DTSTAMP:20260419T233848
CREATED:20240920T054537Z
LAST-MODIFIED:20240920T054633Z
UID:10001606-1811254500-1811260800@hedlandshs.wa.edu.au
SUMMARY:Specialist Arts Program
DESCRIPTION:
URL:https://hedlandshs.wa.edu.au/calendar/specialist-arts-program-3/2027-05-25/
END:VEVENT
BEGIN:VEVENT
DTSTART;TZID=Australia/Perth:20270531T141500
DTEND;TZID=Australia/Perth:20270531T160000
DTSTAMP:20260419T233848
CREATED:20240920T054537Z
LAST-MODIFIED:20240920T054633Z
UID:10001607-1811772900-1811779200@hedlandshs.wa.edu.au
SUMMARY:Specialist Arts Program
DESCRIPTION:
URL:https://hedlandshs.wa.edu.au/calendar/specialist-arts-program-3/2027-05-31/
END:VEVENT
BEGIN:VEVENT
DTSTART;TZID=Australia/Perth:20270601T141500
DTEND;TZID=Australia/Perth:20270601T160000
DTSTAMP:20260419T233848
CREATED:20240920T054331Z
LAST-MODIFIED:20240920T054331Z
UID:10001212-1811859300-1811865600@hedlandshs.wa.edu.au
SUMMARY:Coding Club & Makerspace
DESCRIPTION:
URL:https://hedlandshs.wa.edu.au/calendar/coding-club-makerspace-2/2027-06-01/
END:VEVENT
BEGIN:VEVENT
DTSTART;TZID=Australia/Perth:20270601T141500
DTEND;TZID=Australia/Perth:20270601T160000
DTSTAMP:20260419T233848
CREATED:20240920T054537Z
LAST-MODIFIED:20240920T054633Z
UID:10001608-1811859300-1811865600@hedlandshs.wa.edu.au
SUMMARY:Specialist Arts Program
DESCRIPTION:
URL:https://hedlandshs.wa.edu.au/calendar/specialist-arts-program-3/2027-06-01/
END:VEVENT
END:VCALENDAR