BEGIN:VCALENDAR
VERSION:2.0
PRODID:-//Hedland Senior High School - ECPv6.15.20//NONSGML v1.0//EN
CALSCALE:GREGORIAN
METHOD:PUBLISH
X-ORIGINAL-URL:https://hedlandshs.wa.edu.au
X-WR-CALDESC:Events for Hedland Senior High School
REFRESH-INTERVAL;VALUE=DURATION:PT1H
X-Robots-Tag:noindex
X-PUBLISHED-TTL:PT1H
BEGIN:VTIMEZONE
TZID:Australia/Perth
BEGIN:STANDARD
TZOFFSETFROM:+0800
TZOFFSETTO:+0800
TZNAME:AWST
DTSTART:20260101T000000
END:STANDARD
END:VTIMEZONE
BEGIN:VEVENT
DTSTART;TZID=Australia/Perth:20271004T141500
DTEND;TZID=Australia/Perth:20271004T160000
DTSTAMP:20260420T132322
CREATED:20240920T054537Z
LAST-MODIFIED:20240920T054633Z
UID:10001643-1822659300-1822665600@hedlandshs.wa.edu.au
SUMMARY:Specialist Arts Program
DESCRIPTION:
URL:https://hedlandshs.wa.edu.au/calendar/specialist-arts-program-3/2027-10-04/
END:VEVENT
BEGIN:VEVENT
DTSTART;TZID=Australia/Perth:20271005T141500
DTEND;TZID=Australia/Perth:20271005T160000
DTSTAMP:20260420T132322
CREATED:20240920T054331Z
LAST-MODIFIED:20240920T054331Z
UID:10001230-1822745700-1822752000@hedlandshs.wa.edu.au
SUMMARY:Coding Club & Makerspace
DESCRIPTION:
URL:https://hedlandshs.wa.edu.au/calendar/coding-club-makerspace-2/2027-10-05/
END:VEVENT
BEGIN:VEVENT
DTSTART;TZID=Australia/Perth:20271005T141500
DTEND;TZID=Australia/Perth:20271005T160000
DTSTAMP:20260420T132322
CREATED:20240920T054537Z
LAST-MODIFIED:20240920T054633Z
UID:10001644-1822745700-1822752000@hedlandshs.wa.edu.au
SUMMARY:Specialist Arts Program
DESCRIPTION:
URL:https://hedlandshs.wa.edu.au/calendar/specialist-arts-program-3/2027-10-05/
END:VEVENT
BEGIN:VEVENT
DTSTART;TZID=Australia/Perth:20271011T141500
DTEND;TZID=Australia/Perth:20271011T160000
DTSTAMP:20260420T132322
CREATED:20240920T054537Z
LAST-MODIFIED:20240920T054633Z
UID:10001645-1823264100-1823270400@hedlandshs.wa.edu.au
SUMMARY:Specialist Arts Program
DESCRIPTION:
URL:https://hedlandshs.wa.edu.au/calendar/specialist-arts-program-3/2027-10-11/
END:VEVENT
BEGIN:VEVENT
DTSTART;TZID=Australia/Perth:20271012T141500
DTEND;TZID=Australia/Perth:20271012T160000
DTSTAMP:20260420T132322
CREATED:20240920T054331Z
LAST-MODIFIED:20240920T054331Z
UID:10001231-1823350500-1823356800@hedlandshs.wa.edu.au
SUMMARY:Coding Club & Makerspace
DESCRIPTION:
URL:https://hedlandshs.wa.edu.au/calendar/coding-club-makerspace-2/2027-10-12/
END:VEVENT
BEGIN:VEVENT
DTSTART;TZID=Australia/Perth:20271012T141500
DTEND;TZID=Australia/Perth:20271012T160000
DTSTAMP:20260420T132322
CREATED:20240920T054537Z
LAST-MODIFIED:20240920T054633Z
UID:10001646-1823350500-1823356800@hedlandshs.wa.edu.au
SUMMARY:Specialist Arts Program
DESCRIPTION:
URL:https://hedlandshs.wa.edu.au/calendar/specialist-arts-program-3/2027-10-12/
END:VEVENT
BEGIN:VEVENT
DTSTART;TZID=Australia/Perth:20271018T141500
DTEND;TZID=Australia/Perth:20271018T160000
DTSTAMP:20260420T132322
CREATED:20240920T054537Z
LAST-MODIFIED:20240920T054633Z
UID:10001647-1823868900-1823875200@hedlandshs.wa.edu.au
SUMMARY:Specialist Arts Program
DESCRIPTION:
URL:https://hedlandshs.wa.edu.au/calendar/specialist-arts-program-3/2027-10-18/
END:VEVENT
BEGIN:VEVENT
DTSTART;TZID=Australia/Perth:20271019T141500
DTEND;TZID=Australia/Perth:20271019T160000
DTSTAMP:20260420T132322
CREATED:20240920T054331Z
LAST-MODIFIED:20240920T054331Z
UID:10001232-1823955300-1823961600@hedlandshs.wa.edu.au
SUMMARY:Coding Club & Makerspace
DESCRIPTION:
URL:https://hedlandshs.wa.edu.au/calendar/coding-club-makerspace-2/2027-10-19/
END:VEVENT
BEGIN:VEVENT
DTSTART;TZID=Australia/Perth:20271019T141500
DTEND;TZID=Australia/Perth:20271019T160000
DTSTAMP:20260420T132322
CREATED:20240920T054537Z
LAST-MODIFIED:20240920T054633Z
UID:10001648-1823955300-1823961600@hedlandshs.wa.edu.au
SUMMARY:Specialist Arts Program
DESCRIPTION:
URL:https://hedlandshs.wa.edu.au/calendar/specialist-arts-program-3/2027-10-19/
END:VEVENT
BEGIN:VEVENT
DTSTART;TZID=Australia/Perth:20271025T141500
DTEND;TZID=Australia/Perth:20271025T160000
DTSTAMP:20260420T132322
CREATED:20240920T054537Z
LAST-MODIFIED:20240920T054633Z
UID:10001649-1824473700-1824480000@hedlandshs.wa.edu.au
SUMMARY:Specialist Arts Program
DESCRIPTION:
URL:https://hedlandshs.wa.edu.au/calendar/specialist-arts-program-3/2027-10-25/
END:VEVENT
BEGIN:VEVENT
DTSTART;TZID=Australia/Perth:20271026T141500
DTEND;TZID=Australia/Perth:20271026T160000
DTSTAMP:20260420T132322
CREATED:20240920T054331Z
LAST-MODIFIED:20240920T054331Z
UID:10001233-1824560100-1824566400@hedlandshs.wa.edu.au
SUMMARY:Coding Club & Makerspace
DESCRIPTION:
URL:https://hedlandshs.wa.edu.au/calendar/coding-club-makerspace-2/2027-10-26/
END:VEVENT
BEGIN:VEVENT
DTSTART;TZID=Australia/Perth:20271026T141500
DTEND;TZID=Australia/Perth:20271026T160000
DTSTAMP:20260420T132322
CREATED:20240920T054537Z
LAST-MODIFIED:20240920T054633Z
UID:10001650-1824560100-1824566400@hedlandshs.wa.edu.au
SUMMARY:Specialist Arts Program
DESCRIPTION:
URL:https://hedlandshs.wa.edu.au/calendar/specialist-arts-program-3/2027-10-26/
END:VEVENT
BEGIN:VEVENT
DTSTART;TZID=Australia/Perth:20271101T141500
DTEND;TZID=Australia/Perth:20271101T160000
DTSTAMP:20260420T132322
CREATED:20240920T054537Z
LAST-MODIFIED:20240920T054633Z
UID:10001651-1825078500-1825084800@hedlandshs.wa.edu.au
SUMMARY:Specialist Arts Program
DESCRIPTION:
URL:https://hedlandshs.wa.edu.au/calendar/specialist-arts-program-3/2027-11-01/
END:VEVENT
BEGIN:VEVENT
DTSTART;TZID=Australia/Perth:20271102T141500
DTEND;TZID=Australia/Perth:20271102T160000
DTSTAMP:20260420T132322
CREATED:20240920T054331Z
LAST-MODIFIED:20240920T054331Z
UID:10001234-1825164900-1825171200@hedlandshs.wa.edu.au
SUMMARY:Coding Club & Makerspace
DESCRIPTION:
URL:https://hedlandshs.wa.edu.au/calendar/coding-club-makerspace-2/2027-11-02/
END:VEVENT
BEGIN:VEVENT
DTSTART;TZID=Australia/Perth:20271102T141500
DTEND;TZID=Australia/Perth:20271102T160000
DTSTAMP:20260420T132322
CREATED:20240920T054537Z
LAST-MODIFIED:20240920T054633Z
UID:10001652-1825164900-1825171200@hedlandshs.wa.edu.au
SUMMARY:Specialist Arts Program
DESCRIPTION:
URL:https://hedlandshs.wa.edu.au/calendar/specialist-arts-program-3/2027-11-02/
END:VEVENT
BEGIN:VEVENT
DTSTART;TZID=Australia/Perth:20271108T141500
DTEND;TZID=Australia/Perth:20271108T160000
DTSTAMP:20260420T132322
CREATED:20240920T054537Z
LAST-MODIFIED:20240920T054633Z
UID:10001653-1825683300-1825689600@hedlandshs.wa.edu.au
SUMMARY:Specialist Arts Program
DESCRIPTION:
URL:https://hedlandshs.wa.edu.au/calendar/specialist-arts-program-3/2027-11-08/
END:VEVENT
BEGIN:VEVENT
DTSTART;TZID=Australia/Perth:20271109T141500
DTEND;TZID=Australia/Perth:20271109T160000
DTSTAMP:20260420T132322
CREATED:20240920T054331Z
LAST-MODIFIED:20240920T054331Z
UID:10001235-1825769700-1825776000@hedlandshs.wa.edu.au
SUMMARY:Coding Club & Makerspace
DESCRIPTION:
URL:https://hedlandshs.wa.edu.au/calendar/coding-club-makerspace-2/2027-11-09/
END:VEVENT
BEGIN:VEVENT
DTSTART;TZID=Australia/Perth:20271109T141500
DTEND;TZID=Australia/Perth:20271109T160000
DTSTAMP:20260420T132322
CREATED:20240920T054537Z
LAST-MODIFIED:20240920T054633Z
UID:10001654-1825769700-1825776000@hedlandshs.wa.edu.au
SUMMARY:Specialist Arts Program
DESCRIPTION:
URL:https://hedlandshs.wa.edu.au/calendar/specialist-arts-program-3/2027-11-09/
END:VEVENT
BEGIN:VEVENT
DTSTART;TZID=Australia/Perth:20271115T141500
DTEND;TZID=Australia/Perth:20271115T160000
DTSTAMP:20260420T132322
CREATED:20240920T054537Z
LAST-MODIFIED:20240920T054633Z
UID:10001655-1826288100-1826294400@hedlandshs.wa.edu.au
SUMMARY:Specialist Arts Program
DESCRIPTION:
URL:https://hedlandshs.wa.edu.au/calendar/specialist-arts-program-3/2027-11-15/
END:VEVENT
BEGIN:VEVENT
DTSTART;TZID=Australia/Perth:20271116T141500
DTEND;TZID=Australia/Perth:20271116T160000
DTSTAMP:20260420T132322
CREATED:20240920T054331Z
LAST-MODIFIED:20240920T054331Z
UID:10001236-1826374500-1826380800@hedlandshs.wa.edu.au
SUMMARY:Coding Club & Makerspace
DESCRIPTION:
URL:https://hedlandshs.wa.edu.au/calendar/coding-club-makerspace-2/2027-11-16/
END:VEVENT
BEGIN:VEVENT
DTSTART;TZID=Australia/Perth:20271116T141500
DTEND;TZID=Australia/Perth:20271116T160000
DTSTAMP:20260420T132322
CREATED:20240920T054537Z
LAST-MODIFIED:20240920T054633Z
UID:10001656-1826374500-1826380800@hedlandshs.wa.edu.au
SUMMARY:Specialist Arts Program
DESCRIPTION:
URL:https://hedlandshs.wa.edu.au/calendar/specialist-arts-program-3/2027-11-16/
END:VEVENT
BEGIN:VEVENT
DTSTART;TZID=Australia/Perth:20271122T141500
DTEND;TZID=Australia/Perth:20271122T160000
DTSTAMP:20260420T132322
CREATED:20240920T054537Z
LAST-MODIFIED:20240920T054633Z
UID:10001657-1826892900-1826899200@hedlandshs.wa.edu.au
SUMMARY:Specialist Arts Program
DESCRIPTION:
URL:https://hedlandshs.wa.edu.au/calendar/specialist-arts-program-3/2027-11-22/
END:VEVENT
BEGIN:VEVENT
DTSTART;TZID=Australia/Perth:20271123T141500
DTEND;TZID=Australia/Perth:20271123T160000
DTSTAMP:20260420T132322
CREATED:20240920T054331Z
LAST-MODIFIED:20240920T054331Z
UID:10001237-1826979300-1826985600@hedlandshs.wa.edu.au
SUMMARY:Coding Club & Makerspace
DESCRIPTION:
URL:https://hedlandshs.wa.edu.au/calendar/coding-club-makerspace-2/2027-11-23/
END:VEVENT
BEGIN:VEVENT
DTSTART;TZID=Australia/Perth:20271123T141500
DTEND;TZID=Australia/Perth:20271123T160000
DTSTAMP:20260420T132322
CREATED:20240920T054537Z
LAST-MODIFIED:20240920T054633Z
UID:10001658-1826979300-1826985600@hedlandshs.wa.edu.au
SUMMARY:Specialist Arts Program
DESCRIPTION:
URL:https://hedlandshs.wa.edu.au/calendar/specialist-arts-program-3/2027-11-23/
END:VEVENT
BEGIN:VEVENT
DTSTART;TZID=Australia/Perth:20271129T141500
DTEND;TZID=Australia/Perth:20271129T160000
DTSTAMP:20260420T132322
CREATED:20240920T054537Z
LAST-MODIFIED:20240920T054633Z
UID:10001659-1827497700-1827504000@hedlandshs.wa.edu.au
SUMMARY:Specialist Arts Program
DESCRIPTION:
URL:https://hedlandshs.wa.edu.au/calendar/specialist-arts-program-3/2027-11-29/
END:VEVENT
BEGIN:VEVENT
DTSTART;TZID=Australia/Perth:20271130T141500
DTEND;TZID=Australia/Perth:20271130T160000
DTSTAMP:20260420T132322
CREATED:20240920T054331Z
LAST-MODIFIED:20240920T054331Z
UID:10001238-1827584100-1827590400@hedlandshs.wa.edu.au
SUMMARY:Coding Club & Makerspace
DESCRIPTION:
URL:https://hedlandshs.wa.edu.au/calendar/coding-club-makerspace-2/2027-11-30/
END:VEVENT
BEGIN:VEVENT
DTSTART;TZID=Australia/Perth:20271130T141500
DTEND;TZID=Australia/Perth:20271130T160000
DTSTAMP:20260420T132322
CREATED:20240920T054537Z
LAST-MODIFIED:20240920T054633Z
UID:10001660-1827584100-1827590400@hedlandshs.wa.edu.au
SUMMARY:Specialist Arts Program
DESCRIPTION:
URL:https://hedlandshs.wa.edu.au/calendar/specialist-arts-program-3/2027-11-30/
END:VEVENT
BEGIN:VEVENT
DTSTART;TZID=Australia/Perth:20271206T141500
DTEND;TZID=Australia/Perth:20271206T160000
DTSTAMP:20260420T132322
CREATED:20240920T054537Z
LAST-MODIFIED:20240920T054633Z
UID:10001661-1828102500-1828108800@hedlandshs.wa.edu.au
SUMMARY:Specialist Arts Program
DESCRIPTION:
URL:https://hedlandshs.wa.edu.au/calendar/specialist-arts-program-3/2027-12-06/
END:VEVENT
BEGIN:VEVENT
DTSTART;TZID=Australia/Perth:20271207T141500
DTEND;TZID=Australia/Perth:20271207T160000
DTSTAMP:20260420T132323
CREATED:20240920T054331Z
LAST-MODIFIED:20240920T054331Z
UID:10001239-1828188900-1828195200@hedlandshs.wa.edu.au
SUMMARY:Coding Club & Makerspace
DESCRIPTION:
URL:https://hedlandshs.wa.edu.au/calendar/coding-club-makerspace-2/2027-12-07/
END:VEVENT
BEGIN:VEVENT
DTSTART;TZID=Australia/Perth:20271207T141500
DTEND;TZID=Australia/Perth:20271207T160000
DTSTAMP:20260420T132323
CREATED:20240920T054537Z
LAST-MODIFIED:20240920T054633Z
UID:10001662-1828188900-1828195200@hedlandshs.wa.edu.au
SUMMARY:Specialist Arts Program
DESCRIPTION:
URL:https://hedlandshs.wa.edu.au/calendar/specialist-arts-program-3/2027-12-07/
END:VEVENT
END:VCALENDAR