BEGIN:VCALENDAR
VERSION:2.0
PRODID:-//Hedland Senior High School - ECPv6.15.20//NONSGML v1.0//EN
CALSCALE:GREGORIAN
METHOD:PUBLISH
X-WR-CALNAME:Hedland Senior High School
X-ORIGINAL-URL:https://hedlandshs.wa.edu.au
X-WR-CALDESC:Events for Hedland Senior High School
REFRESH-INTERVAL;VALUE=DURATION:PT1H
X-Robots-Tag:noindex
X-PUBLISHED-TTL:PT1H
BEGIN:VTIMEZONE
TZID:Australia/Perth
BEGIN:STANDARD
TZOFFSETFROM:+0800
TZOFFSETTO:+0800
TZNAME:AWST
DTSTART:20260101T000000
END:STANDARD
END:VTIMEZONE
BEGIN:VEVENT
DTSTART;TZID=Australia/Perth:20270816T141500
DTEND;TZID=Australia/Perth:20270816T160000
DTSTAMP:20260420T093436
CREATED:20240920T054537Z
LAST-MODIFIED:20240920T054633Z
UID:10001629-1818425700-1818432000@hedlandshs.wa.edu.au
SUMMARY:Specialist Arts Program
DESCRIPTION:
URL:https://hedlandshs.wa.edu.au/calendar/specialist-arts-program-3/2027-08-16/
END:VEVENT
BEGIN:VEVENT
DTSTART;TZID=Australia/Perth:20270817T141500
DTEND;TZID=Australia/Perth:20270817T160000
DTSTAMP:20260420T093436
CREATED:20240920T054331Z
LAST-MODIFIED:20240920T054331Z
UID:10001223-1818512100-1818518400@hedlandshs.wa.edu.au
SUMMARY:Coding Club & Makerspace
DESCRIPTION:
URL:https://hedlandshs.wa.edu.au/calendar/coding-club-makerspace-2/2027-08-17/
END:VEVENT
BEGIN:VEVENT
DTSTART;TZID=Australia/Perth:20270817T141500
DTEND;TZID=Australia/Perth:20270817T160000
DTSTAMP:20260420T093436
CREATED:20240920T054537Z
LAST-MODIFIED:20240920T054633Z
UID:10001630-1818512100-1818518400@hedlandshs.wa.edu.au
SUMMARY:Specialist Arts Program
DESCRIPTION:
URL:https://hedlandshs.wa.edu.au/calendar/specialist-arts-program-3/2027-08-17/
END:VEVENT
BEGIN:VEVENT
DTSTART;TZID=Australia/Perth:20270823T141500
DTEND;TZID=Australia/Perth:20270823T160000
DTSTAMP:20260420T093436
CREATED:20240920T054537Z
LAST-MODIFIED:20240920T054633Z
UID:10001631-1819030500-1819036800@hedlandshs.wa.edu.au
SUMMARY:Specialist Arts Program
DESCRIPTION:
URL:https://hedlandshs.wa.edu.au/calendar/specialist-arts-program-3/2027-08-23/
END:VEVENT
BEGIN:VEVENT
DTSTART;TZID=Australia/Perth:20270824T141500
DTEND;TZID=Australia/Perth:20270824T160000
DTSTAMP:20260420T093436
CREATED:20240920T054331Z
LAST-MODIFIED:20240920T054331Z
UID:10001224-1819116900-1819123200@hedlandshs.wa.edu.au
SUMMARY:Coding Club & Makerspace
DESCRIPTION:
URL:https://hedlandshs.wa.edu.au/calendar/coding-club-makerspace-2/2027-08-24/
END:VEVENT
BEGIN:VEVENT
DTSTART;TZID=Australia/Perth:20270824T141500
DTEND;TZID=Australia/Perth:20270824T160000
DTSTAMP:20260420T093436
CREATED:20240920T054537Z
LAST-MODIFIED:20240920T054633Z
UID:10001632-1819116900-1819123200@hedlandshs.wa.edu.au
SUMMARY:Specialist Arts Program
DESCRIPTION:
URL:https://hedlandshs.wa.edu.au/calendar/specialist-arts-program-3/2027-08-24/
END:VEVENT
BEGIN:VEVENT
DTSTART;TZID=Australia/Perth:20270830T141500
DTEND;TZID=Australia/Perth:20270830T160000
DTSTAMP:20260420T093436
CREATED:20240920T054537Z
LAST-MODIFIED:20240920T054633Z
UID:10001633-1819635300-1819641600@hedlandshs.wa.edu.au
SUMMARY:Specialist Arts Program
DESCRIPTION:
URL:https://hedlandshs.wa.edu.au/calendar/specialist-arts-program-3/2027-08-30/
END:VEVENT
BEGIN:VEVENT
DTSTART;TZID=Australia/Perth:20270831T141500
DTEND;TZID=Australia/Perth:20270831T160000
DTSTAMP:20260420T093436
CREATED:20240920T054331Z
LAST-MODIFIED:20240920T054331Z
UID:10001225-1819721700-1819728000@hedlandshs.wa.edu.au
SUMMARY:Coding Club & Makerspace
DESCRIPTION:
URL:https://hedlandshs.wa.edu.au/calendar/coding-club-makerspace-2/2027-08-31/
END:VEVENT
BEGIN:VEVENT
DTSTART;TZID=Australia/Perth:20270831T141500
DTEND;TZID=Australia/Perth:20270831T160000
DTSTAMP:20260420T093436
CREATED:20240920T054537Z
LAST-MODIFIED:20240920T054633Z
UID:10001634-1819721700-1819728000@hedlandshs.wa.edu.au
SUMMARY:Specialist Arts Program
DESCRIPTION:
URL:https://hedlandshs.wa.edu.au/calendar/specialist-arts-program-3/2027-08-31/
END:VEVENT
BEGIN:VEVENT
DTSTART;TZID=Australia/Perth:20270906T141500
DTEND;TZID=Australia/Perth:20270906T160000
DTSTAMP:20260420T093436
CREATED:20240920T054537Z
LAST-MODIFIED:20240920T054633Z
UID:10001635-1820240100-1820246400@hedlandshs.wa.edu.au
SUMMARY:Specialist Arts Program
DESCRIPTION:
URL:https://hedlandshs.wa.edu.au/calendar/specialist-arts-program-3/2027-09-06/
END:VEVENT
BEGIN:VEVENT
DTSTART;TZID=Australia/Perth:20270907T141500
DTEND;TZID=Australia/Perth:20270907T160000
DTSTAMP:20260420T093436
CREATED:20240920T054331Z
LAST-MODIFIED:20240920T054331Z
UID:10001226-1820326500-1820332800@hedlandshs.wa.edu.au
SUMMARY:Coding Club & Makerspace
DESCRIPTION:
URL:https://hedlandshs.wa.edu.au/calendar/coding-club-makerspace-2/2027-09-07/
END:VEVENT
BEGIN:VEVENT
DTSTART;TZID=Australia/Perth:20270907T141500
DTEND;TZID=Australia/Perth:20270907T160000
DTSTAMP:20260420T093436
CREATED:20240920T054537Z
LAST-MODIFIED:20240920T054633Z
UID:10001636-1820326500-1820332800@hedlandshs.wa.edu.au
SUMMARY:Specialist Arts Program
DESCRIPTION:
URL:https://hedlandshs.wa.edu.au/calendar/specialist-arts-program-3/2027-09-07/
END:VEVENT
BEGIN:VEVENT
DTSTART;TZID=Australia/Perth:20270913T141500
DTEND;TZID=Australia/Perth:20270913T160000
DTSTAMP:20260420T093436
CREATED:20240920T054537Z
LAST-MODIFIED:20240920T054633Z
UID:10001637-1820844900-1820851200@hedlandshs.wa.edu.au
SUMMARY:Specialist Arts Program
DESCRIPTION:
URL:https://hedlandshs.wa.edu.au/calendar/specialist-arts-program-3/2027-09-13/
END:VEVENT
BEGIN:VEVENT
DTSTART;TZID=Australia/Perth:20270914T141500
DTEND;TZID=Australia/Perth:20270914T160000
DTSTAMP:20260420T093436
CREATED:20240920T054331Z
LAST-MODIFIED:20240920T054331Z
UID:10001227-1820931300-1820937600@hedlandshs.wa.edu.au
SUMMARY:Coding Club & Makerspace
DESCRIPTION:
URL:https://hedlandshs.wa.edu.au/calendar/coding-club-makerspace-2/2027-09-14/
END:VEVENT
BEGIN:VEVENT
DTSTART;TZID=Australia/Perth:20270914T141500
DTEND;TZID=Australia/Perth:20270914T160000
DTSTAMP:20260420T093436
CREATED:20240920T054537Z
LAST-MODIFIED:20240920T054633Z
UID:10001638-1820931300-1820937600@hedlandshs.wa.edu.au
SUMMARY:Specialist Arts Program
DESCRIPTION:
URL:https://hedlandshs.wa.edu.au/calendar/specialist-arts-program-3/2027-09-14/
END:VEVENT
BEGIN:VEVENT
DTSTART;TZID=Australia/Perth:20270920T141500
DTEND;TZID=Australia/Perth:20270920T160000
DTSTAMP:20260420T093436
CREATED:20240920T054537Z
LAST-MODIFIED:20240920T054633Z
UID:10001639-1821449700-1821456000@hedlandshs.wa.edu.au
SUMMARY:Specialist Arts Program
DESCRIPTION:
URL:https://hedlandshs.wa.edu.au/calendar/specialist-arts-program-3/2027-09-20/
END:VEVENT
BEGIN:VEVENT
DTSTART;TZID=Australia/Perth:20270921T141500
DTEND;TZID=Australia/Perth:20270921T160000
DTSTAMP:20260420T093436
CREATED:20240920T054331Z
LAST-MODIFIED:20240920T054331Z
UID:10001228-1821536100-1821542400@hedlandshs.wa.edu.au
SUMMARY:Coding Club & Makerspace
DESCRIPTION:
URL:https://hedlandshs.wa.edu.au/calendar/coding-club-makerspace-2/2027-09-21/
END:VEVENT
BEGIN:VEVENT
DTSTART;TZID=Australia/Perth:20270921T141500
DTEND;TZID=Australia/Perth:20270921T160000
DTSTAMP:20260420T093436
CREATED:20240920T054537Z
LAST-MODIFIED:20240920T054633Z
UID:10001640-1821536100-1821542400@hedlandshs.wa.edu.au
SUMMARY:Specialist Arts Program
DESCRIPTION:
URL:https://hedlandshs.wa.edu.au/calendar/specialist-arts-program-3/2027-09-21/
END:VEVENT
BEGIN:VEVENT
DTSTART;TZID=Australia/Perth:20270927T141500
DTEND;TZID=Australia/Perth:20270927T160000
DTSTAMP:20260420T093436
CREATED:20240920T054537Z
LAST-MODIFIED:20240920T054633Z
UID:10001641-1822054500-1822060800@hedlandshs.wa.edu.au
SUMMARY:Specialist Arts Program
DESCRIPTION:
URL:https://hedlandshs.wa.edu.au/calendar/specialist-arts-program-3/2027-09-27/
END:VEVENT
BEGIN:VEVENT
DTSTART;TZID=Australia/Perth:20270928T141500
DTEND;TZID=Australia/Perth:20270928T160000
DTSTAMP:20260420T093436
CREATED:20240920T054331Z
LAST-MODIFIED:20240920T054331Z
UID:10001229-1822140900-1822147200@hedlandshs.wa.edu.au
SUMMARY:Coding Club & Makerspace
DESCRIPTION:
URL:https://hedlandshs.wa.edu.au/calendar/coding-club-makerspace-2/2027-09-28/
END:VEVENT
BEGIN:VEVENT
DTSTART;TZID=Australia/Perth:20270928T141500
DTEND;TZID=Australia/Perth:20270928T160000
DTSTAMP:20260420T093436
CREATED:20240920T054537Z
LAST-MODIFIED:20240920T054633Z
UID:10001642-1822140900-1822147200@hedlandshs.wa.edu.au
SUMMARY:Specialist Arts Program
DESCRIPTION:
URL:https://hedlandshs.wa.edu.au/calendar/specialist-arts-program-3/2027-09-28/
END:VEVENT
BEGIN:VEVENT
DTSTART;TZID=Australia/Perth:20271004T141500
DTEND;TZID=Australia/Perth:20271004T160000
DTSTAMP:20260420T093436
CREATED:20240920T054537Z
LAST-MODIFIED:20240920T054633Z
UID:10001643-1822659300-1822665600@hedlandshs.wa.edu.au
SUMMARY:Specialist Arts Program
DESCRIPTION:
URL:https://hedlandshs.wa.edu.au/calendar/specialist-arts-program-3/2027-10-04/
END:VEVENT
BEGIN:VEVENT
DTSTART;TZID=Australia/Perth:20271005T141500
DTEND;TZID=Australia/Perth:20271005T160000
DTSTAMP:20260420T093436
CREATED:20240920T054331Z
LAST-MODIFIED:20240920T054331Z
UID:10001230-1822745700-1822752000@hedlandshs.wa.edu.au
SUMMARY:Coding Club & Makerspace
DESCRIPTION:
URL:https://hedlandshs.wa.edu.au/calendar/coding-club-makerspace-2/2027-10-05/
END:VEVENT
BEGIN:VEVENT
DTSTART;TZID=Australia/Perth:20271005T141500
DTEND;TZID=Australia/Perth:20271005T160000
DTSTAMP:20260420T093436
CREATED:20240920T054537Z
LAST-MODIFIED:20240920T054633Z
UID:10001644-1822745700-1822752000@hedlandshs.wa.edu.au
SUMMARY:Specialist Arts Program
DESCRIPTION:
URL:https://hedlandshs.wa.edu.au/calendar/specialist-arts-program-3/2027-10-05/
END:VEVENT
BEGIN:VEVENT
DTSTART;TZID=Australia/Perth:20271011T141500
DTEND;TZID=Australia/Perth:20271011T160000
DTSTAMP:20260420T093436
CREATED:20240920T054537Z
LAST-MODIFIED:20240920T054633Z
UID:10001645-1823264100-1823270400@hedlandshs.wa.edu.au
SUMMARY:Specialist Arts Program
DESCRIPTION:
URL:https://hedlandshs.wa.edu.au/calendar/specialist-arts-program-3/2027-10-11/
END:VEVENT
BEGIN:VEVENT
DTSTART;TZID=Australia/Perth:20271012T141500
DTEND;TZID=Australia/Perth:20271012T160000
DTSTAMP:20260420T093436
CREATED:20240920T054331Z
LAST-MODIFIED:20240920T054331Z
UID:10001231-1823350500-1823356800@hedlandshs.wa.edu.au
SUMMARY:Coding Club & Makerspace
DESCRIPTION:
URL:https://hedlandshs.wa.edu.au/calendar/coding-club-makerspace-2/2027-10-12/
END:VEVENT
BEGIN:VEVENT
DTSTART;TZID=Australia/Perth:20271012T141500
DTEND;TZID=Australia/Perth:20271012T160000
DTSTAMP:20260420T093436
CREATED:20240920T054537Z
LAST-MODIFIED:20240920T054633Z
UID:10001646-1823350500-1823356800@hedlandshs.wa.edu.au
SUMMARY:Specialist Arts Program
DESCRIPTION:
URL:https://hedlandshs.wa.edu.au/calendar/specialist-arts-program-3/2027-10-12/
END:VEVENT
BEGIN:VEVENT
DTSTART;TZID=Australia/Perth:20271018T141500
DTEND;TZID=Australia/Perth:20271018T160000
DTSTAMP:20260420T093436
CREATED:20240920T054537Z
LAST-MODIFIED:20240920T054633Z
UID:10001647-1823868900-1823875200@hedlandshs.wa.edu.au
SUMMARY:Specialist Arts Program
DESCRIPTION:
URL:https://hedlandshs.wa.edu.au/calendar/specialist-arts-program-3/2027-10-18/
END:VEVENT
BEGIN:VEVENT
DTSTART;TZID=Australia/Perth:20271019T141500
DTEND;TZID=Australia/Perth:20271019T160000
DTSTAMP:20260420T093436
CREATED:20240920T054331Z
LAST-MODIFIED:20240920T054331Z
UID:10001232-1823955300-1823961600@hedlandshs.wa.edu.au
SUMMARY:Coding Club & Makerspace
DESCRIPTION:
URL:https://hedlandshs.wa.edu.au/calendar/coding-club-makerspace-2/2027-10-19/
END:VEVENT
BEGIN:VEVENT
DTSTART;TZID=Australia/Perth:20271019T141500
DTEND;TZID=Australia/Perth:20271019T160000
DTSTAMP:20260420T093436
CREATED:20240920T054537Z
LAST-MODIFIED:20240920T054633Z
UID:10001648-1823955300-1823961600@hedlandshs.wa.edu.au
SUMMARY:Specialist Arts Program
DESCRIPTION:
URL:https://hedlandshs.wa.edu.au/calendar/specialist-arts-program-3/2027-10-19/
END:VEVENT
END:VCALENDAR