BEGIN:VCALENDAR
VERSION:2.0
PRODID:-//Hedland Senior High School - ECPv6.15.20//NONSGML v1.0//EN
CALSCALE:GREGORIAN
METHOD:PUBLISH
X-WR-CALNAME:Hedland Senior High School
X-ORIGINAL-URL:https://hedlandshs.wa.edu.au
X-WR-CALDESC:Events for Hedland Senior High School
REFRESH-INTERVAL;VALUE=DURATION:PT1H
X-Robots-Tag:noindex
X-PUBLISHED-TTL:PT1H
BEGIN:VTIMEZONE
TZID:Australia/Perth
BEGIN:STANDARD
TZOFFSETFROM:+0800
TZOFFSETTO:+0800
TZNAME:AWST
DTSTART:20270101T000000
END:STANDARD
END:VTIMEZONE
BEGIN:VEVENT
DTSTART;TZID=Australia/Perth:20280228T141500
DTEND;TZID=Australia/Perth:20280228T160000
DTSTAMP:20260421T041132
CREATED:20240920T054537Z
LAST-MODIFIED:20240920T054633Z
UID:10001685-1835360100-1835366400@hedlandshs.wa.edu.au
SUMMARY:Specialist Arts Program
DESCRIPTION:
URL:https://hedlandshs.wa.edu.au/calendar/specialist-arts-program-3/2028-02-28/
END:VEVENT
BEGIN:VEVENT
DTSTART;TZID=Australia/Perth:20280229T141500
DTEND;TZID=Australia/Perth:20280229T160000
DTSTAMP:20260421T041132
CREATED:20240920T054331Z
LAST-MODIFIED:20240920T054331Z
UID:10001251-1835446500-1835452800@hedlandshs.wa.edu.au
SUMMARY:Coding Club & Makerspace
DESCRIPTION:
URL:https://hedlandshs.wa.edu.au/calendar/coding-club-makerspace-2/2028-02-29/
END:VEVENT
BEGIN:VEVENT
DTSTART;TZID=Australia/Perth:20280229T141500
DTEND;TZID=Australia/Perth:20280229T160000
DTSTAMP:20260421T041132
CREATED:20240920T054537Z
LAST-MODIFIED:20240920T054633Z
UID:10001686-1835446500-1835452800@hedlandshs.wa.edu.au
SUMMARY:Specialist Arts Program
DESCRIPTION:
URL:https://hedlandshs.wa.edu.au/calendar/specialist-arts-program-3/2028-02-29/
END:VEVENT
BEGIN:VEVENT
DTSTART;TZID=Australia/Perth:20280306T141500
DTEND;TZID=Australia/Perth:20280306T160000
DTSTAMP:20260421T041132
CREATED:20240920T054537Z
LAST-MODIFIED:20240920T054633Z
UID:10001687-1835964900-1835971200@hedlandshs.wa.edu.au
SUMMARY:Specialist Arts Program
DESCRIPTION:
URL:https://hedlandshs.wa.edu.au/calendar/specialist-arts-program-3/2028-03-06/
END:VEVENT
BEGIN:VEVENT
DTSTART;TZID=Australia/Perth:20280307T141500
DTEND;TZID=Australia/Perth:20280307T160000
DTSTAMP:20260421T041132
CREATED:20240920T054331Z
LAST-MODIFIED:20240920T054331Z
UID:10001252-1836051300-1836057600@hedlandshs.wa.edu.au
SUMMARY:Coding Club & Makerspace
DESCRIPTION:
URL:https://hedlandshs.wa.edu.au/calendar/coding-club-makerspace-2/2028-03-07/
END:VEVENT
BEGIN:VEVENT
DTSTART;TZID=Australia/Perth:20280307T141500
DTEND;TZID=Australia/Perth:20280307T160000
DTSTAMP:20260421T041132
CREATED:20240920T054537Z
LAST-MODIFIED:20240920T054633Z
UID:10001688-1836051300-1836057600@hedlandshs.wa.edu.au
SUMMARY:Specialist Arts Program
DESCRIPTION:
URL:https://hedlandshs.wa.edu.au/calendar/specialist-arts-program-3/2028-03-07/
END:VEVENT
BEGIN:VEVENT
DTSTART;TZID=Australia/Perth:20280313T141500
DTEND;TZID=Australia/Perth:20280313T160000
DTSTAMP:20260421T041132
CREATED:20240920T054537Z
LAST-MODIFIED:20240920T054633Z
UID:10001689-1836569700-1836576000@hedlandshs.wa.edu.au
SUMMARY:Specialist Arts Program
DESCRIPTION:
URL:https://hedlandshs.wa.edu.au/calendar/specialist-arts-program-3/2028-03-13/
END:VEVENT
BEGIN:VEVENT
DTSTART;TZID=Australia/Perth:20280314T141500
DTEND;TZID=Australia/Perth:20280314T160000
DTSTAMP:20260421T041132
CREATED:20240920T054331Z
LAST-MODIFIED:20240920T054331Z
UID:10001253-1836656100-1836662400@hedlandshs.wa.edu.au
SUMMARY:Coding Club & Makerspace
DESCRIPTION:
URL:https://hedlandshs.wa.edu.au/calendar/coding-club-makerspace-2/2028-03-14/
END:VEVENT
BEGIN:VEVENT
DTSTART;TZID=Australia/Perth:20280314T141500
DTEND;TZID=Australia/Perth:20280314T160000
DTSTAMP:20260421T041132
CREATED:20240920T054537Z
LAST-MODIFIED:20240920T054633Z
UID:10001690-1836656100-1836662400@hedlandshs.wa.edu.au
SUMMARY:Specialist Arts Program
DESCRIPTION:
URL:https://hedlandshs.wa.edu.au/calendar/specialist-arts-program-3/2028-03-14/
END:VEVENT
BEGIN:VEVENT
DTSTART;TZID=Australia/Perth:20280320T141500
DTEND;TZID=Australia/Perth:20280320T160000
DTSTAMP:20260421T041132
CREATED:20240920T054537Z
LAST-MODIFIED:20240920T054633Z
UID:10001691-1837174500-1837180800@hedlandshs.wa.edu.au
SUMMARY:Specialist Arts Program
DESCRIPTION:
URL:https://hedlandshs.wa.edu.au/calendar/specialist-arts-program-3/2028-03-20/
END:VEVENT
BEGIN:VEVENT
DTSTART;TZID=Australia/Perth:20280321T141500
DTEND;TZID=Australia/Perth:20280321T160000
DTSTAMP:20260421T041132
CREATED:20240920T054331Z
LAST-MODIFIED:20240920T054331Z
UID:10001254-1837260900-1837267200@hedlandshs.wa.edu.au
SUMMARY:Coding Club & Makerspace
DESCRIPTION:
URL:https://hedlandshs.wa.edu.au/calendar/coding-club-makerspace-2/2028-03-21/
END:VEVENT
BEGIN:VEVENT
DTSTART;TZID=Australia/Perth:20280321T141500
DTEND;TZID=Australia/Perth:20280321T160000
DTSTAMP:20260421T041132
CREATED:20240920T054537Z
LAST-MODIFIED:20240920T054633Z
UID:10001692-1837260900-1837267200@hedlandshs.wa.edu.au
SUMMARY:Specialist Arts Program
DESCRIPTION:
URL:https://hedlandshs.wa.edu.au/calendar/specialist-arts-program-3/2028-03-21/
END:VEVENT
BEGIN:VEVENT
DTSTART;TZID=Australia/Perth:20280327T141500
DTEND;TZID=Australia/Perth:20280327T160000
DTSTAMP:20260421T041132
CREATED:20240920T054537Z
LAST-MODIFIED:20240920T054633Z
UID:10001693-1837779300-1837785600@hedlandshs.wa.edu.au
SUMMARY:Specialist Arts Program
DESCRIPTION:
URL:https://hedlandshs.wa.edu.au/calendar/specialist-arts-program-3/2028-03-27/
END:VEVENT
BEGIN:VEVENT
DTSTART;TZID=Australia/Perth:20280328T141500
DTEND;TZID=Australia/Perth:20280328T160000
DTSTAMP:20260421T041132
CREATED:20240920T054331Z
LAST-MODIFIED:20240920T054331Z
UID:10001255-1837865700-1837872000@hedlandshs.wa.edu.au
SUMMARY:Coding Club & Makerspace
DESCRIPTION:
URL:https://hedlandshs.wa.edu.au/calendar/coding-club-makerspace-2/2028-03-28/
END:VEVENT
BEGIN:VEVENT
DTSTART;TZID=Australia/Perth:20280328T141500
DTEND;TZID=Australia/Perth:20280328T160000
DTSTAMP:20260421T041132
CREATED:20240920T054537Z
LAST-MODIFIED:20240920T054633Z
UID:10001694-1837865700-1837872000@hedlandshs.wa.edu.au
SUMMARY:Specialist Arts Program
DESCRIPTION:
URL:https://hedlandshs.wa.edu.au/calendar/specialist-arts-program-3/2028-03-28/
END:VEVENT
BEGIN:VEVENT
DTSTART;TZID=Australia/Perth:20280403T141500
DTEND;TZID=Australia/Perth:20280403T160000
DTSTAMP:20260421T041132
CREATED:20240920T054537Z
LAST-MODIFIED:20240920T054633Z
UID:10001695-1838384100-1838390400@hedlandshs.wa.edu.au
SUMMARY:Specialist Arts Program
DESCRIPTION:
URL:https://hedlandshs.wa.edu.au/calendar/specialist-arts-program-3/2028-04-03/
END:VEVENT
BEGIN:VEVENT
DTSTART;TZID=Australia/Perth:20280404T141500
DTEND;TZID=Australia/Perth:20280404T160000
DTSTAMP:20260421T041132
CREATED:20240920T054331Z
LAST-MODIFIED:20240920T054331Z
UID:10001256-1838470500-1838476800@hedlandshs.wa.edu.au
SUMMARY:Coding Club & Makerspace
DESCRIPTION:
URL:https://hedlandshs.wa.edu.au/calendar/coding-club-makerspace-2/2028-04-04/
END:VEVENT
BEGIN:VEVENT
DTSTART;TZID=Australia/Perth:20280404T141500
DTEND;TZID=Australia/Perth:20280404T160000
DTSTAMP:20260421T041132
CREATED:20240920T054537Z
LAST-MODIFIED:20240920T054633Z
UID:10001696-1838470500-1838476800@hedlandshs.wa.edu.au
SUMMARY:Specialist Arts Program
DESCRIPTION:
URL:https://hedlandshs.wa.edu.au/calendar/specialist-arts-program-3/2028-04-04/
END:VEVENT
BEGIN:VEVENT
DTSTART;TZID=Australia/Perth:20280410T141500
DTEND;TZID=Australia/Perth:20280410T160000
DTSTAMP:20260421T041132
CREATED:20240920T054537Z
LAST-MODIFIED:20240920T054633Z
UID:10001697-1838988900-1838995200@hedlandshs.wa.edu.au
SUMMARY:Specialist Arts Program
DESCRIPTION:
URL:https://hedlandshs.wa.edu.au/calendar/specialist-arts-program-3/2028-04-10/
END:VEVENT
BEGIN:VEVENT
DTSTART;TZID=Australia/Perth:20280411T141500
DTEND;TZID=Australia/Perth:20280411T160000
DTSTAMP:20260421T041132
CREATED:20240920T054331Z
LAST-MODIFIED:20240920T054331Z
UID:10001257-1839075300-1839081600@hedlandshs.wa.edu.au
SUMMARY:Coding Club & Makerspace
DESCRIPTION:
URL:https://hedlandshs.wa.edu.au/calendar/coding-club-makerspace-2/2028-04-11/
END:VEVENT
BEGIN:VEVENT
DTSTART;TZID=Australia/Perth:20280411T141500
DTEND;TZID=Australia/Perth:20280411T160000
DTSTAMP:20260421T041132
CREATED:20240920T054537Z
LAST-MODIFIED:20240920T054633Z
UID:10001698-1839075300-1839081600@hedlandshs.wa.edu.au
SUMMARY:Specialist Arts Program
DESCRIPTION:
URL:https://hedlandshs.wa.edu.au/calendar/specialist-arts-program-3/2028-04-11/
END:VEVENT
BEGIN:VEVENT
DTSTART;TZID=Australia/Perth:20280417T141500
DTEND;TZID=Australia/Perth:20280417T160000
DTSTAMP:20260421T041132
CREATED:20240920T054537Z
LAST-MODIFIED:20240920T054633Z
UID:10001699-1839593700-1839600000@hedlandshs.wa.edu.au
SUMMARY:Specialist Arts Program
DESCRIPTION:
URL:https://hedlandshs.wa.edu.au/calendar/specialist-arts-program-3/2028-04-17/
END:VEVENT
BEGIN:VEVENT
DTSTART;TZID=Australia/Perth:20280418T141500
DTEND;TZID=Australia/Perth:20280418T160000
DTSTAMP:20260421T041132
CREATED:20240920T054331Z
LAST-MODIFIED:20240920T054331Z
UID:10001258-1839680100-1839686400@hedlandshs.wa.edu.au
SUMMARY:Coding Club & Makerspace
DESCRIPTION:
URL:https://hedlandshs.wa.edu.au/calendar/coding-club-makerspace-2/2028-04-18/
END:VEVENT
BEGIN:VEVENT
DTSTART;TZID=Australia/Perth:20280418T141500
DTEND;TZID=Australia/Perth:20280418T160000
DTSTAMP:20260421T041132
CREATED:20240920T054537Z
LAST-MODIFIED:20240920T054633Z
UID:10001700-1839680100-1839686400@hedlandshs.wa.edu.au
SUMMARY:Specialist Arts Program
DESCRIPTION:
URL:https://hedlandshs.wa.edu.au/calendar/specialist-arts-program-3/2028-04-18/
END:VEVENT
BEGIN:VEVENT
DTSTART;TZID=Australia/Perth:20280424T141500
DTEND;TZID=Australia/Perth:20280424T160000
DTSTAMP:20260421T041132
CREATED:20240920T054537Z
LAST-MODIFIED:20240920T054633Z
UID:10001701-1840198500-1840204800@hedlandshs.wa.edu.au
SUMMARY:Specialist Arts Program
DESCRIPTION:
URL:https://hedlandshs.wa.edu.au/calendar/specialist-arts-program-3/2028-04-24/
END:VEVENT
BEGIN:VEVENT
DTSTART;TZID=Australia/Perth:20280425T141500
DTEND;TZID=Australia/Perth:20280425T160000
DTSTAMP:20260421T041132
CREATED:20240920T054331Z
LAST-MODIFIED:20240920T054331Z
UID:10001259-1840284900-1840291200@hedlandshs.wa.edu.au
SUMMARY:Coding Club & Makerspace
DESCRIPTION:
URL:https://hedlandshs.wa.edu.au/calendar/coding-club-makerspace-2/2028-04-25/
END:VEVENT
BEGIN:VEVENT
DTSTART;TZID=Australia/Perth:20280425T141500
DTEND;TZID=Australia/Perth:20280425T160000
DTSTAMP:20260421T041132
CREATED:20240920T054537Z
LAST-MODIFIED:20240920T054633Z
UID:10001702-1840284900-1840291200@hedlandshs.wa.edu.au
SUMMARY:Specialist Arts Program
DESCRIPTION:
URL:https://hedlandshs.wa.edu.au/calendar/specialist-arts-program-3/2028-04-25/
END:VEVENT
BEGIN:VEVENT
DTSTART;TZID=Australia/Perth:20280501T141500
DTEND;TZID=Australia/Perth:20280501T160000
DTSTAMP:20260421T041132
CREATED:20240920T054537Z
LAST-MODIFIED:20240920T054633Z
UID:10001703-1840803300-1840809600@hedlandshs.wa.edu.au
SUMMARY:Specialist Arts Program
DESCRIPTION:
URL:https://hedlandshs.wa.edu.au/calendar/specialist-arts-program-3/2028-05-01/
END:VEVENT
BEGIN:VEVENT
DTSTART;TZID=Australia/Perth:20280502T141500
DTEND;TZID=Australia/Perth:20280502T160000
DTSTAMP:20260421T041132
CREATED:20240920T054331Z
LAST-MODIFIED:20240920T054331Z
UID:10001260-1840889700-1840896000@hedlandshs.wa.edu.au
SUMMARY:Coding Club & Makerspace
DESCRIPTION:
URL:https://hedlandshs.wa.edu.au/calendar/coding-club-makerspace-2/2028-05-02/
END:VEVENT
BEGIN:VEVENT
DTSTART;TZID=Australia/Perth:20280502T141500
DTEND;TZID=Australia/Perth:20280502T160000
DTSTAMP:20260421T041132
CREATED:20240920T054537Z
LAST-MODIFIED:20240920T054633Z
UID:10001704-1840889700-1840896000@hedlandshs.wa.edu.au
SUMMARY:Specialist Arts Program
DESCRIPTION:
URL:https://hedlandshs.wa.edu.au/calendar/specialist-arts-program-3/2028-05-02/
END:VEVENT
END:VCALENDAR