BEGIN:VCALENDAR
VERSION:2.0
PRODID:-//Hedland Senior High School - ECPv6.15.20//NONSGML v1.0//EN
CALSCALE:GREGORIAN
METHOD:PUBLISH
X-WR-CALNAME:Hedland Senior High School
X-ORIGINAL-URL:https://hedlandshs.wa.edu.au
X-WR-CALDESC:Events for Hedland Senior High School
REFRESH-INTERVAL;VALUE=DURATION:PT1H
X-Robots-Tag:noindex
X-PUBLISHED-TTL:PT1H
BEGIN:VTIMEZONE
TZID:Australia/Perth
BEGIN:STANDARD
TZOFFSETFROM:+0800
TZOFFSETTO:+0800
TZNAME:AWST
DTSTART:20270101T000000
END:STANDARD
END:VTIMEZONE
BEGIN:VEVENT
DTSTART;TZID=Australia/Perth:20281009T141500
DTEND;TZID=Australia/Perth:20281009T160000
DTSTAMP:20260421T125438
CREATED:20240920T054537Z
LAST-MODIFIED:20240920T054633Z
UID:10001749-1854713700-1854720000@hedlandshs.wa.edu.au
SUMMARY:Specialist Arts Program
DESCRIPTION:
URL:https://hedlandshs.wa.edu.au/calendar/specialist-arts-program-3/2028-10-09/
END:VEVENT
BEGIN:VEVENT
DTSTART;TZID=Australia/Perth:20281010T141500
DTEND;TZID=Australia/Perth:20281010T160000
DTSTAMP:20260421T125438
CREATED:20240920T054331Z
LAST-MODIFIED:20240920T054331Z
UID:10001283-1854800100-1854806400@hedlandshs.wa.edu.au
SUMMARY:Coding Club & Makerspace
DESCRIPTION:
URL:https://hedlandshs.wa.edu.au/calendar/coding-club-makerspace-2/2028-10-10/
END:VEVENT
BEGIN:VEVENT
DTSTART;TZID=Australia/Perth:20281010T141500
DTEND;TZID=Australia/Perth:20281010T160000
DTSTAMP:20260421T125438
CREATED:20240920T054537Z
LAST-MODIFIED:20240920T054633Z
UID:10001750-1854800100-1854806400@hedlandshs.wa.edu.au
SUMMARY:Specialist Arts Program
DESCRIPTION:
URL:https://hedlandshs.wa.edu.au/calendar/specialist-arts-program-3/2028-10-10/
END:VEVENT
BEGIN:VEVENT
DTSTART;TZID=Australia/Perth:20281016T141500
DTEND;TZID=Australia/Perth:20281016T160000
DTSTAMP:20260421T125438
CREATED:20240920T054537Z
LAST-MODIFIED:20240920T054633Z
UID:10001751-1855318500-1855324800@hedlandshs.wa.edu.au
SUMMARY:Specialist Arts Program
DESCRIPTION:
URL:https://hedlandshs.wa.edu.au/calendar/specialist-arts-program-3/2028-10-16/
END:VEVENT
BEGIN:VEVENT
DTSTART;TZID=Australia/Perth:20281017T141500
DTEND;TZID=Australia/Perth:20281017T160000
DTSTAMP:20260421T125438
CREATED:20240920T054331Z
LAST-MODIFIED:20240920T054331Z
UID:10001284-1855404900-1855411200@hedlandshs.wa.edu.au
SUMMARY:Coding Club & Makerspace
DESCRIPTION:
URL:https://hedlandshs.wa.edu.au/calendar/coding-club-makerspace-2/2028-10-17/
END:VEVENT
BEGIN:VEVENT
DTSTART;TZID=Australia/Perth:20281017T141500
DTEND;TZID=Australia/Perth:20281017T160000
DTSTAMP:20260421T125438
CREATED:20240920T054537Z
LAST-MODIFIED:20240920T054633Z
UID:10001752-1855404900-1855411200@hedlandshs.wa.edu.au
SUMMARY:Specialist Arts Program
DESCRIPTION:
URL:https://hedlandshs.wa.edu.au/calendar/specialist-arts-program-3/2028-10-17/
END:VEVENT
BEGIN:VEVENT
DTSTART;TZID=Australia/Perth:20281023T141500
DTEND;TZID=Australia/Perth:20281023T160000
DTSTAMP:20260421T125438
CREATED:20240920T054537Z
LAST-MODIFIED:20240920T054633Z
UID:10001753-1855923300-1855929600@hedlandshs.wa.edu.au
SUMMARY:Specialist Arts Program
DESCRIPTION:
URL:https://hedlandshs.wa.edu.au/calendar/specialist-arts-program-3/2028-10-23/
END:VEVENT
BEGIN:VEVENT
DTSTART;TZID=Australia/Perth:20281024T141500
DTEND;TZID=Australia/Perth:20281024T160000
DTSTAMP:20260421T125438
CREATED:20240920T054331Z
LAST-MODIFIED:20240920T054331Z
UID:10001285-1856009700-1856016000@hedlandshs.wa.edu.au
SUMMARY:Coding Club & Makerspace
DESCRIPTION:
URL:https://hedlandshs.wa.edu.au/calendar/coding-club-makerspace-2/2028-10-24/
END:VEVENT
BEGIN:VEVENT
DTSTART;TZID=Australia/Perth:20281024T141500
DTEND;TZID=Australia/Perth:20281024T160000
DTSTAMP:20260421T125438
CREATED:20240920T054537Z
LAST-MODIFIED:20240920T054633Z
UID:10001754-1856009700-1856016000@hedlandshs.wa.edu.au
SUMMARY:Specialist Arts Program
DESCRIPTION:
URL:https://hedlandshs.wa.edu.au/calendar/specialist-arts-program-3/2028-10-24/
END:VEVENT
BEGIN:VEVENT
DTSTART;TZID=Australia/Perth:20281030T141500
DTEND;TZID=Australia/Perth:20281030T160000
DTSTAMP:20260421T125438
CREATED:20240920T054537Z
LAST-MODIFIED:20240920T054633Z
UID:10001755-1856528100-1856534400@hedlandshs.wa.edu.au
SUMMARY:Specialist Arts Program
DESCRIPTION:
URL:https://hedlandshs.wa.edu.au/calendar/specialist-arts-program-3/2028-10-30/
END:VEVENT
BEGIN:VEVENT
DTSTART;TZID=Australia/Perth:20281031T141500
DTEND;TZID=Australia/Perth:20281031T160000
DTSTAMP:20260421T125438
CREATED:20240920T054331Z
LAST-MODIFIED:20240920T054331Z
UID:10001286-1856614500-1856620800@hedlandshs.wa.edu.au
SUMMARY:Coding Club & Makerspace
DESCRIPTION:
URL:https://hedlandshs.wa.edu.au/calendar/coding-club-makerspace-2/2028-10-31/
END:VEVENT
BEGIN:VEVENT
DTSTART;TZID=Australia/Perth:20281031T141500
DTEND;TZID=Australia/Perth:20281031T160000
DTSTAMP:20260421T125438
CREATED:20240920T054537Z
LAST-MODIFIED:20240920T054633Z
UID:10001756-1856614500-1856620800@hedlandshs.wa.edu.au
SUMMARY:Specialist Arts Program
DESCRIPTION:
URL:https://hedlandshs.wa.edu.au/calendar/specialist-arts-program-3/2028-10-31/
END:VEVENT
BEGIN:VEVENT
DTSTART;TZID=Australia/Perth:20281106T141500
DTEND;TZID=Australia/Perth:20281106T160000
DTSTAMP:20260421T125438
CREATED:20240920T054537Z
LAST-MODIFIED:20240920T054633Z
UID:10001757-1857132900-1857139200@hedlandshs.wa.edu.au
SUMMARY:Specialist Arts Program
DESCRIPTION:
URL:https://hedlandshs.wa.edu.au/calendar/specialist-arts-program-3/2028-11-06/
END:VEVENT
BEGIN:VEVENT
DTSTART;TZID=Australia/Perth:20281107T141500
DTEND;TZID=Australia/Perth:20281107T160000
DTSTAMP:20260421T125438
CREATED:20240920T054331Z
LAST-MODIFIED:20240920T054331Z
UID:10001287-1857219300-1857225600@hedlandshs.wa.edu.au
SUMMARY:Coding Club & Makerspace
DESCRIPTION:
URL:https://hedlandshs.wa.edu.au/calendar/coding-club-makerspace-2/2028-11-07/
END:VEVENT
BEGIN:VEVENT
DTSTART;TZID=Australia/Perth:20281107T141500
DTEND;TZID=Australia/Perth:20281107T160000
DTSTAMP:20260421T125438
CREATED:20240920T054537Z
LAST-MODIFIED:20240920T054633Z
UID:10001758-1857219300-1857225600@hedlandshs.wa.edu.au
SUMMARY:Specialist Arts Program
DESCRIPTION:
URL:https://hedlandshs.wa.edu.au/calendar/specialist-arts-program-3/2028-11-07/
END:VEVENT
BEGIN:VEVENT
DTSTART;TZID=Australia/Perth:20281113T141500
DTEND;TZID=Australia/Perth:20281113T160000
DTSTAMP:20260421T125438
CREATED:20240920T054537Z
LAST-MODIFIED:20240920T054633Z
UID:10001759-1857737700-1857744000@hedlandshs.wa.edu.au
SUMMARY:Specialist Arts Program
DESCRIPTION:
URL:https://hedlandshs.wa.edu.au/calendar/specialist-arts-program-3/2028-11-13/
END:VEVENT
BEGIN:VEVENT
DTSTART;TZID=Australia/Perth:20281114T141500
DTEND;TZID=Australia/Perth:20281114T160000
DTSTAMP:20260421T125438
CREATED:20240920T054331Z
LAST-MODIFIED:20240920T054331Z
UID:10001288-1857824100-1857830400@hedlandshs.wa.edu.au
SUMMARY:Coding Club & Makerspace
DESCRIPTION:
URL:https://hedlandshs.wa.edu.au/calendar/coding-club-makerspace-2/2028-11-14/
END:VEVENT
BEGIN:VEVENT
DTSTART;TZID=Australia/Perth:20281114T141500
DTEND;TZID=Australia/Perth:20281114T160000
DTSTAMP:20260421T125438
CREATED:20240920T054537Z
LAST-MODIFIED:20240920T054633Z
UID:10001760-1857824100-1857830400@hedlandshs.wa.edu.au
SUMMARY:Specialist Arts Program
DESCRIPTION:
URL:https://hedlandshs.wa.edu.au/calendar/specialist-arts-program-3/2028-11-14/
END:VEVENT
BEGIN:VEVENT
DTSTART;TZID=Australia/Perth:20281120T141500
DTEND;TZID=Australia/Perth:20281120T160000
DTSTAMP:20260421T125438
CREATED:20240920T054537Z
LAST-MODIFIED:20240920T054633Z
UID:10001761-1858342500-1858348800@hedlandshs.wa.edu.au
SUMMARY:Specialist Arts Program
DESCRIPTION:
URL:https://hedlandshs.wa.edu.au/calendar/specialist-arts-program-3/2028-11-20/
END:VEVENT
BEGIN:VEVENT
DTSTART;TZID=Australia/Perth:20281121T141500
DTEND;TZID=Australia/Perth:20281121T160000
DTSTAMP:20260421T125438
CREATED:20240920T054331Z
LAST-MODIFIED:20240920T054331Z
UID:10001289-1858428900-1858435200@hedlandshs.wa.edu.au
SUMMARY:Coding Club & Makerspace
DESCRIPTION:
URL:https://hedlandshs.wa.edu.au/calendar/coding-club-makerspace-2/2028-11-21/
END:VEVENT
BEGIN:VEVENT
DTSTART;TZID=Australia/Perth:20281121T141500
DTEND;TZID=Australia/Perth:20281121T160000
DTSTAMP:20260421T125438
CREATED:20240920T054537Z
LAST-MODIFIED:20240920T054633Z
UID:10001762-1858428900-1858435200@hedlandshs.wa.edu.au
SUMMARY:Specialist Arts Program
DESCRIPTION:
URL:https://hedlandshs.wa.edu.au/calendar/specialist-arts-program-3/2028-11-21/
END:VEVENT
BEGIN:VEVENT
DTSTART;TZID=Australia/Perth:20281127T141500
DTEND;TZID=Australia/Perth:20281127T160000
DTSTAMP:20260421T125438
CREATED:20240920T054537Z
LAST-MODIFIED:20240920T054633Z
UID:10001763-1858947300-1858953600@hedlandshs.wa.edu.au
SUMMARY:Specialist Arts Program
DESCRIPTION:
URL:https://hedlandshs.wa.edu.au/calendar/specialist-arts-program-3/2028-11-27/
END:VEVENT
BEGIN:VEVENT
DTSTART;TZID=Australia/Perth:20281128T141500
DTEND;TZID=Australia/Perth:20281128T160000
DTSTAMP:20260421T125438
CREATED:20240920T054331Z
LAST-MODIFIED:20240920T054331Z
UID:10001290-1859033700-1859040000@hedlandshs.wa.edu.au
SUMMARY:Coding Club & Makerspace
DESCRIPTION:
URL:https://hedlandshs.wa.edu.au/calendar/coding-club-makerspace-2/2028-11-28/
END:VEVENT
BEGIN:VEVENT
DTSTART;TZID=Australia/Perth:20281128T141500
DTEND;TZID=Australia/Perth:20281128T160000
DTSTAMP:20260421T125438
CREATED:20240920T054537Z
LAST-MODIFIED:20240920T054633Z
UID:10001764-1859033700-1859040000@hedlandshs.wa.edu.au
SUMMARY:Specialist Arts Program
DESCRIPTION:
URL:https://hedlandshs.wa.edu.au/calendar/specialist-arts-program-3/2028-11-28/
END:VEVENT
BEGIN:VEVENT
DTSTART;TZID=Australia/Perth:20281204T141500
DTEND;TZID=Australia/Perth:20281204T160000
DTSTAMP:20260421T125438
CREATED:20240920T054537Z
LAST-MODIFIED:20240920T054633Z
UID:10001765-1859552100-1859558400@hedlandshs.wa.edu.au
SUMMARY:Specialist Arts Program
DESCRIPTION:
URL:https://hedlandshs.wa.edu.au/calendar/specialist-arts-program-3/2028-12-04/
END:VEVENT
BEGIN:VEVENT
DTSTART;TZID=Australia/Perth:20281205T141500
DTEND;TZID=Australia/Perth:20281205T160000
DTSTAMP:20260421T125438
CREATED:20240920T054331Z
LAST-MODIFIED:20240920T054331Z
UID:10001291-1859638500-1859644800@hedlandshs.wa.edu.au
SUMMARY:Coding Club & Makerspace
DESCRIPTION:
URL:https://hedlandshs.wa.edu.au/calendar/coding-club-makerspace-2/2028-12-05/
END:VEVENT
BEGIN:VEVENT
DTSTART;TZID=Australia/Perth:20281205T141500
DTEND;TZID=Australia/Perth:20281205T160000
DTSTAMP:20260421T125438
CREATED:20240920T054537Z
LAST-MODIFIED:20240920T054633Z
UID:10001766-1859638500-1859644800@hedlandshs.wa.edu.au
SUMMARY:Specialist Arts Program
DESCRIPTION:
URL:https://hedlandshs.wa.edu.au/calendar/specialist-arts-program-3/2028-12-05/
END:VEVENT
BEGIN:VEVENT
DTSTART;TZID=Australia/Perth:20281211T141500
DTEND;TZID=Australia/Perth:20281211T160000
DTSTAMP:20260421T125438
CREATED:20240920T054537Z
LAST-MODIFIED:20240920T054633Z
UID:10001767-1860156900-1860163200@hedlandshs.wa.edu.au
SUMMARY:Specialist Arts Program
DESCRIPTION:
URL:https://hedlandshs.wa.edu.au/calendar/specialist-arts-program-3/2028-12-11/
END:VEVENT
BEGIN:VEVENT
DTSTART;TZID=Australia/Perth:20281212T141500
DTEND;TZID=Australia/Perth:20281212T160000
DTSTAMP:20260421T125438
CREATED:20240920T054331Z
LAST-MODIFIED:20240920T054331Z
UID:10001292-1860243300-1860249600@hedlandshs.wa.edu.au
SUMMARY:Coding Club & Makerspace
DESCRIPTION:
URL:https://hedlandshs.wa.edu.au/calendar/coding-club-makerspace-2/2028-12-12/
END:VEVENT
BEGIN:VEVENT
DTSTART;TZID=Australia/Perth:20281212T141500
DTEND;TZID=Australia/Perth:20281212T160000
DTSTAMP:20260421T125438
CREATED:20240920T054537Z
LAST-MODIFIED:20240920T054633Z
UID:10001768-1860243300-1860249600@hedlandshs.wa.edu.au
SUMMARY:Specialist Arts Program
DESCRIPTION:
URL:https://hedlandshs.wa.edu.au/calendar/specialist-arts-program-3/2028-12-12/
END:VEVENT
END:VCALENDAR