BEGIN:VCALENDAR
VERSION:2.0
PRODID:-//Hedland Senior High School - ECPv6.15.20//NONSGML v1.0//EN
CALSCALE:GREGORIAN
METHOD:PUBLISH
X-ORIGINAL-URL:https://hedlandshs.wa.edu.au
X-WR-CALDESC:Events for Hedland Senior High School
REFRESH-INTERVAL;VALUE=DURATION:PT1H
X-Robots-Tag:noindex
X-PUBLISHED-TTL:PT1H
BEGIN:VTIMEZONE
TZID:Australia/Perth
BEGIN:STANDARD
TZOFFSETFROM:+0800
TZOFFSETTO:+0800
TZNAME:AWST
DTSTART:20270101T000000
END:STANDARD
END:VTIMEZONE
BEGIN:VEVENT
DTSTART;TZID=Australia/Perth:20280814T141500
DTEND;TZID=Australia/Perth:20280814T160000
DTSTAMP:20260421T125550
CREATED:20240920T054537Z
LAST-MODIFIED:20240920T054633Z
UID:10001733-1849875300-1849881600@hedlandshs.wa.edu.au
SUMMARY:Specialist Arts Program
DESCRIPTION:
URL:https://hedlandshs.wa.edu.au/calendar/specialist-arts-program-3/2028-08-14/
END:VEVENT
BEGIN:VEVENT
DTSTART;TZID=Australia/Perth:20280815T141500
DTEND;TZID=Australia/Perth:20280815T160000
DTSTAMP:20260421T125550
CREATED:20240920T054331Z
LAST-MODIFIED:20240920T054331Z
UID:10001275-1849961700-1849968000@hedlandshs.wa.edu.au
SUMMARY:Coding Club & Makerspace
DESCRIPTION:
URL:https://hedlandshs.wa.edu.au/calendar/coding-club-makerspace-2/2028-08-15/
END:VEVENT
BEGIN:VEVENT
DTSTART;TZID=Australia/Perth:20280815T141500
DTEND;TZID=Australia/Perth:20280815T160000
DTSTAMP:20260421T125550
CREATED:20240920T054537Z
LAST-MODIFIED:20240920T054633Z
UID:10001734-1849961700-1849968000@hedlandshs.wa.edu.au
SUMMARY:Specialist Arts Program
DESCRIPTION:
URL:https://hedlandshs.wa.edu.au/calendar/specialist-arts-program-3/2028-08-15/
END:VEVENT
BEGIN:VEVENT
DTSTART;TZID=Australia/Perth:20280821T141500
DTEND;TZID=Australia/Perth:20280821T160000
DTSTAMP:20260421T125550
CREATED:20240920T054537Z
LAST-MODIFIED:20240920T054633Z
UID:10001735-1850480100-1850486400@hedlandshs.wa.edu.au
SUMMARY:Specialist Arts Program
DESCRIPTION:
URL:https://hedlandshs.wa.edu.au/calendar/specialist-arts-program-3/2028-08-21/
END:VEVENT
BEGIN:VEVENT
DTSTART;TZID=Australia/Perth:20280822T141500
DTEND;TZID=Australia/Perth:20280822T160000
DTSTAMP:20260421T125550
CREATED:20240920T054331Z
LAST-MODIFIED:20240920T054331Z
UID:10001276-1850566500-1850572800@hedlandshs.wa.edu.au
SUMMARY:Coding Club & Makerspace
DESCRIPTION:
URL:https://hedlandshs.wa.edu.au/calendar/coding-club-makerspace-2/2028-08-22/
END:VEVENT
BEGIN:VEVENT
DTSTART;TZID=Australia/Perth:20280822T141500
DTEND;TZID=Australia/Perth:20280822T160000
DTSTAMP:20260421T125550
CREATED:20240920T054537Z
LAST-MODIFIED:20240920T054633Z
UID:10001736-1850566500-1850572800@hedlandshs.wa.edu.au
SUMMARY:Specialist Arts Program
DESCRIPTION:
URL:https://hedlandshs.wa.edu.au/calendar/specialist-arts-program-3/2028-08-22/
END:VEVENT
BEGIN:VEVENT
DTSTART;TZID=Australia/Perth:20280828T141500
DTEND;TZID=Australia/Perth:20280828T160000
DTSTAMP:20260421T125550
CREATED:20240920T054537Z
LAST-MODIFIED:20240920T054633Z
UID:10001737-1851084900-1851091200@hedlandshs.wa.edu.au
SUMMARY:Specialist Arts Program
DESCRIPTION:
URL:https://hedlandshs.wa.edu.au/calendar/specialist-arts-program-3/2028-08-28/
END:VEVENT
BEGIN:VEVENT
DTSTART;TZID=Australia/Perth:20280829T141500
DTEND;TZID=Australia/Perth:20280829T160000
DTSTAMP:20260421T125550
CREATED:20240920T054331Z
LAST-MODIFIED:20240920T054331Z
UID:10001277-1851171300-1851177600@hedlandshs.wa.edu.au
SUMMARY:Coding Club & Makerspace
DESCRIPTION:
URL:https://hedlandshs.wa.edu.au/calendar/coding-club-makerspace-2/2028-08-29/
END:VEVENT
BEGIN:VEVENT
DTSTART;TZID=Australia/Perth:20280829T141500
DTEND;TZID=Australia/Perth:20280829T160000
DTSTAMP:20260421T125550
CREATED:20240920T054537Z
LAST-MODIFIED:20240920T054633Z
UID:10001738-1851171300-1851177600@hedlandshs.wa.edu.au
SUMMARY:Specialist Arts Program
DESCRIPTION:
URL:https://hedlandshs.wa.edu.au/calendar/specialist-arts-program-3/2028-08-29/
END:VEVENT
BEGIN:VEVENT
DTSTART;TZID=Australia/Perth:20280904T141500
DTEND;TZID=Australia/Perth:20280904T160000
DTSTAMP:20260421T125550
CREATED:20240920T054537Z
LAST-MODIFIED:20240920T054633Z
UID:10001739-1851689700-1851696000@hedlandshs.wa.edu.au
SUMMARY:Specialist Arts Program
DESCRIPTION:
URL:https://hedlandshs.wa.edu.au/calendar/specialist-arts-program-3/2028-09-04/
END:VEVENT
BEGIN:VEVENT
DTSTART;TZID=Australia/Perth:20280905T141500
DTEND;TZID=Australia/Perth:20280905T160000
DTSTAMP:20260421T125550
CREATED:20240920T054331Z
LAST-MODIFIED:20240920T054331Z
UID:10001278-1851776100-1851782400@hedlandshs.wa.edu.au
SUMMARY:Coding Club & Makerspace
DESCRIPTION:
URL:https://hedlandshs.wa.edu.au/calendar/coding-club-makerspace-2/2028-09-05/
END:VEVENT
BEGIN:VEVENT
DTSTART;TZID=Australia/Perth:20280905T141500
DTEND;TZID=Australia/Perth:20280905T160000
DTSTAMP:20260421T125550
CREATED:20240920T054537Z
LAST-MODIFIED:20240920T054633Z
UID:10001740-1851776100-1851782400@hedlandshs.wa.edu.au
SUMMARY:Specialist Arts Program
DESCRIPTION:
URL:https://hedlandshs.wa.edu.au/calendar/specialist-arts-program-3/2028-09-05/
END:VEVENT
BEGIN:VEVENT
DTSTART;TZID=Australia/Perth:20280911T141500
DTEND;TZID=Australia/Perth:20280911T160000
DTSTAMP:20260421T125550
CREATED:20240920T054537Z
LAST-MODIFIED:20240920T054633Z
UID:10001741-1852294500-1852300800@hedlandshs.wa.edu.au
SUMMARY:Specialist Arts Program
DESCRIPTION:
URL:https://hedlandshs.wa.edu.au/calendar/specialist-arts-program-3/2028-09-11/
END:VEVENT
BEGIN:VEVENT
DTSTART;TZID=Australia/Perth:20280912T141500
DTEND;TZID=Australia/Perth:20280912T160000
DTSTAMP:20260421T125550
CREATED:20240920T054331Z
LAST-MODIFIED:20240920T054331Z
UID:10001279-1852380900-1852387200@hedlandshs.wa.edu.au
SUMMARY:Coding Club & Makerspace
DESCRIPTION:
URL:https://hedlandshs.wa.edu.au/calendar/coding-club-makerspace-2/2028-09-12/
END:VEVENT
BEGIN:VEVENT
DTSTART;TZID=Australia/Perth:20280912T141500
DTEND;TZID=Australia/Perth:20280912T160000
DTSTAMP:20260421T125550
CREATED:20240920T054537Z
LAST-MODIFIED:20240920T054633Z
UID:10001742-1852380900-1852387200@hedlandshs.wa.edu.au
SUMMARY:Specialist Arts Program
DESCRIPTION:
URL:https://hedlandshs.wa.edu.au/calendar/specialist-arts-program-3/2028-09-12/
END:VEVENT
BEGIN:VEVENT
DTSTART;TZID=Australia/Perth:20280918T141500
DTEND;TZID=Australia/Perth:20280918T160000
DTSTAMP:20260421T125550
CREATED:20240920T054537Z
LAST-MODIFIED:20240920T054633Z
UID:10001743-1852899300-1852905600@hedlandshs.wa.edu.au
SUMMARY:Specialist Arts Program
DESCRIPTION:
URL:https://hedlandshs.wa.edu.au/calendar/specialist-arts-program-3/2028-09-18/
END:VEVENT
BEGIN:VEVENT
DTSTART;TZID=Australia/Perth:20280919T141500
DTEND;TZID=Australia/Perth:20280919T160000
DTSTAMP:20260421T125550
CREATED:20240920T054331Z
LAST-MODIFIED:20240920T054331Z
UID:10001280-1852985700-1852992000@hedlandshs.wa.edu.au
SUMMARY:Coding Club & Makerspace
DESCRIPTION:
URL:https://hedlandshs.wa.edu.au/calendar/coding-club-makerspace-2/2028-09-19/
END:VEVENT
BEGIN:VEVENT
DTSTART;TZID=Australia/Perth:20280919T141500
DTEND;TZID=Australia/Perth:20280919T160000
DTSTAMP:20260421T125550
CREATED:20240920T054537Z
LAST-MODIFIED:20240920T054633Z
UID:10001744-1852985700-1852992000@hedlandshs.wa.edu.au
SUMMARY:Specialist Arts Program
DESCRIPTION:
URL:https://hedlandshs.wa.edu.au/calendar/specialist-arts-program-3/2028-09-19/
END:VEVENT
BEGIN:VEVENT
DTSTART;TZID=Australia/Perth:20280925T141500
DTEND;TZID=Australia/Perth:20280925T160000
DTSTAMP:20260421T125550
CREATED:20240920T054537Z
LAST-MODIFIED:20240920T054633Z
UID:10001745-1853504100-1853510400@hedlandshs.wa.edu.au
SUMMARY:Specialist Arts Program
DESCRIPTION:
URL:https://hedlandshs.wa.edu.au/calendar/specialist-arts-program-3/2028-09-25/
END:VEVENT
BEGIN:VEVENT
DTSTART;TZID=Australia/Perth:20280926T141500
DTEND;TZID=Australia/Perth:20280926T160000
DTSTAMP:20260421T125550
CREATED:20240920T054331Z
LAST-MODIFIED:20240920T054331Z
UID:10001281-1853590500-1853596800@hedlandshs.wa.edu.au
SUMMARY:Coding Club & Makerspace
DESCRIPTION:
URL:https://hedlandshs.wa.edu.au/calendar/coding-club-makerspace-2/2028-09-26/
END:VEVENT
BEGIN:VEVENT
DTSTART;TZID=Australia/Perth:20280926T141500
DTEND;TZID=Australia/Perth:20280926T160000
DTSTAMP:20260421T125550
CREATED:20240920T054537Z
LAST-MODIFIED:20240920T054633Z
UID:10001746-1853590500-1853596800@hedlandshs.wa.edu.au
SUMMARY:Specialist Arts Program
DESCRIPTION:
URL:https://hedlandshs.wa.edu.au/calendar/specialist-arts-program-3/2028-09-26/
END:VEVENT
BEGIN:VEVENT
DTSTART;TZID=Australia/Perth:20281002T141500
DTEND;TZID=Australia/Perth:20281002T160000
DTSTAMP:20260421T125550
CREATED:20240920T054537Z
LAST-MODIFIED:20240920T054633Z
UID:10001747-1854108900-1854115200@hedlandshs.wa.edu.au
SUMMARY:Specialist Arts Program
DESCRIPTION:
URL:https://hedlandshs.wa.edu.au/calendar/specialist-arts-program-3/2028-10-02/
END:VEVENT
BEGIN:VEVENT
DTSTART;TZID=Australia/Perth:20281003T141500
DTEND;TZID=Australia/Perth:20281003T160000
DTSTAMP:20260421T125550
CREATED:20240920T054331Z
LAST-MODIFIED:20240920T054331Z
UID:10001282-1854195300-1854201600@hedlandshs.wa.edu.au
SUMMARY:Coding Club & Makerspace
DESCRIPTION:
URL:https://hedlandshs.wa.edu.au/calendar/coding-club-makerspace-2/2028-10-03/
END:VEVENT
BEGIN:VEVENT
DTSTART;TZID=Australia/Perth:20281003T141500
DTEND;TZID=Australia/Perth:20281003T160000
DTSTAMP:20260421T125550
CREATED:20240920T054537Z
LAST-MODIFIED:20240920T054633Z
UID:10001748-1854195300-1854201600@hedlandshs.wa.edu.au
SUMMARY:Specialist Arts Program
DESCRIPTION:
URL:https://hedlandshs.wa.edu.au/calendar/specialist-arts-program-3/2028-10-03/
END:VEVENT
BEGIN:VEVENT
DTSTART;TZID=Australia/Perth:20281009T141500
DTEND;TZID=Australia/Perth:20281009T160000
DTSTAMP:20260421T125550
CREATED:20240920T054537Z
LAST-MODIFIED:20240920T054633Z
UID:10001749-1854713700-1854720000@hedlandshs.wa.edu.au
SUMMARY:Specialist Arts Program
DESCRIPTION:
URL:https://hedlandshs.wa.edu.au/calendar/specialist-arts-program-3/2028-10-09/
END:VEVENT
BEGIN:VEVENT
DTSTART;TZID=Australia/Perth:20281010T141500
DTEND;TZID=Australia/Perth:20281010T160000
DTSTAMP:20260421T125550
CREATED:20240920T054331Z
LAST-MODIFIED:20240920T054331Z
UID:10001283-1854800100-1854806400@hedlandshs.wa.edu.au
SUMMARY:Coding Club & Makerspace
DESCRIPTION:
URL:https://hedlandshs.wa.edu.au/calendar/coding-club-makerspace-2/2028-10-10/
END:VEVENT
BEGIN:VEVENT
DTSTART;TZID=Australia/Perth:20281010T141500
DTEND;TZID=Australia/Perth:20281010T160000
DTSTAMP:20260421T125550
CREATED:20240920T054537Z
LAST-MODIFIED:20240920T054633Z
UID:10001750-1854800100-1854806400@hedlandshs.wa.edu.au
SUMMARY:Specialist Arts Program
DESCRIPTION:
URL:https://hedlandshs.wa.edu.au/calendar/specialist-arts-program-3/2028-10-10/
END:VEVENT
BEGIN:VEVENT
DTSTART;TZID=Australia/Perth:20281016T141500
DTEND;TZID=Australia/Perth:20281016T160000
DTSTAMP:20260421T125550
CREATED:20240920T054537Z
LAST-MODIFIED:20240920T054633Z
UID:10001751-1855318500-1855324800@hedlandshs.wa.edu.au
SUMMARY:Specialist Arts Program
DESCRIPTION:
URL:https://hedlandshs.wa.edu.au/calendar/specialist-arts-program-3/2028-10-16/
END:VEVENT
BEGIN:VEVENT
DTSTART;TZID=Australia/Perth:20281017T141500
DTEND;TZID=Australia/Perth:20281017T160000
DTSTAMP:20260421T125550
CREATED:20240920T054331Z
LAST-MODIFIED:20240920T054331Z
UID:10001284-1855404900-1855411200@hedlandshs.wa.edu.au
SUMMARY:Coding Club & Makerspace
DESCRIPTION:
URL:https://hedlandshs.wa.edu.au/calendar/coding-club-makerspace-2/2028-10-17/
END:VEVENT
BEGIN:VEVENT
DTSTART;TZID=Australia/Perth:20281017T141500
DTEND;TZID=Australia/Perth:20281017T160000
DTSTAMP:20260421T125550
CREATED:20240920T054537Z
LAST-MODIFIED:20240920T054633Z
UID:10001752-1855404900-1855411200@hedlandshs.wa.edu.au
SUMMARY:Specialist Arts Program
DESCRIPTION:
URL:https://hedlandshs.wa.edu.au/calendar/specialist-arts-program-3/2028-10-17/
END:VEVENT
END:VCALENDAR