BEGIN:VCALENDAR
VERSION:2.0
PRODID:-//Hedland Senior High School - ECPv6.15.20//NONSGML v1.0//EN
CALSCALE:GREGORIAN
METHOD:PUBLISH
X-WR-CALNAME:Hedland Senior High School
X-ORIGINAL-URL:https://hedlandshs.wa.edu.au
X-WR-CALDESC:Events for Hedland Senior High School
REFRESH-INTERVAL;VALUE=DURATION:PT1H
X-Robots-Tag:noindex
X-PUBLISHED-TTL:PT1H
BEGIN:VTIMEZONE
TZID:Australia/Perth
BEGIN:STANDARD
TZOFFSETFROM:+0800
TZOFFSETTO:+0800
TZNAME:AWST
DTSTART:20270101T000000
END:STANDARD
END:VTIMEZONE
BEGIN:VEVENT
DTSTART;TZID=Australia/Perth:20281204T141500
DTEND;TZID=Australia/Perth:20281204T160000
DTSTAMP:20260421T155007
CREATED:20240920T054537Z
LAST-MODIFIED:20240920T054633Z
UID:10001765-1859552100-1859558400@hedlandshs.wa.edu.au
SUMMARY:Specialist Arts Program
DESCRIPTION:
URL:https://hedlandshs.wa.edu.au/calendar/specialist-arts-program-3/2028-12-04/
END:VEVENT
BEGIN:VEVENT
DTSTART;TZID=Australia/Perth:20281205T141500
DTEND;TZID=Australia/Perth:20281205T160000
DTSTAMP:20260421T155007
CREATED:20240920T054331Z
LAST-MODIFIED:20240920T054331Z
UID:10001291-1859638500-1859644800@hedlandshs.wa.edu.au
SUMMARY:Coding Club & Makerspace
DESCRIPTION:
URL:https://hedlandshs.wa.edu.au/calendar/coding-club-makerspace-2/2028-12-05/
END:VEVENT
BEGIN:VEVENT
DTSTART;TZID=Australia/Perth:20281205T141500
DTEND;TZID=Australia/Perth:20281205T160000
DTSTAMP:20260421T155007
CREATED:20240920T054537Z
LAST-MODIFIED:20240920T054633Z
UID:10001766-1859638500-1859644800@hedlandshs.wa.edu.au
SUMMARY:Specialist Arts Program
DESCRIPTION:
URL:https://hedlandshs.wa.edu.au/calendar/specialist-arts-program-3/2028-12-05/
END:VEVENT
BEGIN:VEVENT
DTSTART;TZID=Australia/Perth:20281211T141500
DTEND;TZID=Australia/Perth:20281211T160000
DTSTAMP:20260421T155007
CREATED:20240920T054537Z
LAST-MODIFIED:20240920T054633Z
UID:10001767-1860156900-1860163200@hedlandshs.wa.edu.au
SUMMARY:Specialist Arts Program
DESCRIPTION:
URL:https://hedlandshs.wa.edu.au/calendar/specialist-arts-program-3/2028-12-11/
END:VEVENT
BEGIN:VEVENT
DTSTART;TZID=Australia/Perth:20281212T141500
DTEND;TZID=Australia/Perth:20281212T160000
DTSTAMP:20260421T155007
CREATED:20240920T054331Z
LAST-MODIFIED:20240920T054331Z
UID:10001292-1860243300-1860249600@hedlandshs.wa.edu.au
SUMMARY:Coding Club & Makerspace
DESCRIPTION:
URL:https://hedlandshs.wa.edu.au/calendar/coding-club-makerspace-2/2028-12-12/
END:VEVENT
BEGIN:VEVENT
DTSTART;TZID=Australia/Perth:20281212T141500
DTEND;TZID=Australia/Perth:20281212T160000
DTSTAMP:20260421T155007
CREATED:20240920T054537Z
LAST-MODIFIED:20240920T054633Z
UID:10001768-1860243300-1860249600@hedlandshs.wa.edu.au
SUMMARY:Specialist Arts Program
DESCRIPTION:
URL:https://hedlandshs.wa.edu.au/calendar/specialist-arts-program-3/2028-12-12/
END:VEVENT
BEGIN:VEVENT
DTSTART;TZID=Australia/Perth:20281218T141500
DTEND;TZID=Australia/Perth:20281218T160000
DTSTAMP:20260421T155007
CREATED:20240920T054537Z
LAST-MODIFIED:20240920T054633Z
UID:10001769-1860761700-1860768000@hedlandshs.wa.edu.au
SUMMARY:Specialist Arts Program
DESCRIPTION:
URL:https://hedlandshs.wa.edu.au/calendar/specialist-arts-program-3/2028-12-18/
END:VEVENT
BEGIN:VEVENT
DTSTART;TZID=Australia/Perth:20281219T141500
DTEND;TZID=Australia/Perth:20281219T160000
DTSTAMP:20260421T155007
CREATED:20240920T054331Z
LAST-MODIFIED:20240920T054331Z
UID:10001293-1860848100-1860854400@hedlandshs.wa.edu.au
SUMMARY:Coding Club & Makerspace
DESCRIPTION:
URL:https://hedlandshs.wa.edu.au/calendar/coding-club-makerspace-2/2028-12-19/
END:VEVENT
BEGIN:VEVENT
DTSTART;TZID=Australia/Perth:20281219T141500
DTEND;TZID=Australia/Perth:20281219T160000
DTSTAMP:20260421T155007
CREATED:20240920T054537Z
LAST-MODIFIED:20240920T054633Z
UID:10001770-1860848100-1860854400@hedlandshs.wa.edu.au
SUMMARY:Specialist Arts Program
DESCRIPTION:
URL:https://hedlandshs.wa.edu.au/calendar/specialist-arts-program-3/2028-12-19/
END:VEVENT
BEGIN:VEVENT
DTSTART;TZID=Australia/Perth:20281225T141500
DTEND;TZID=Australia/Perth:20281225T160000
DTSTAMP:20260421T155007
CREATED:20240920T054537Z
LAST-MODIFIED:20240920T054633Z
UID:10001771-1861366500-1861372800@hedlandshs.wa.edu.au
SUMMARY:Specialist Arts Program
DESCRIPTION:
URL:https://hedlandshs.wa.edu.au/calendar/specialist-arts-program-3/2028-12-25/
END:VEVENT
BEGIN:VEVENT
DTSTART;TZID=Australia/Perth:20281226T141500
DTEND;TZID=Australia/Perth:20281226T160000
DTSTAMP:20260421T155007
CREATED:20240920T054331Z
LAST-MODIFIED:20240920T054331Z
UID:10001294-1861452900-1861459200@hedlandshs.wa.edu.au
SUMMARY:Coding Club & Makerspace
DESCRIPTION:
URL:https://hedlandshs.wa.edu.au/calendar/coding-club-makerspace-2/2028-12-26/
END:VEVENT
BEGIN:VEVENT
DTSTART;TZID=Australia/Perth:20281226T141500
DTEND;TZID=Australia/Perth:20281226T160000
DTSTAMP:20260421T155007
CREATED:20240920T054537Z
LAST-MODIFIED:20240920T054633Z
UID:10001772-1861452900-1861459200@hedlandshs.wa.edu.au
SUMMARY:Specialist Arts Program
DESCRIPTION:
URL:https://hedlandshs.wa.edu.au/calendar/specialist-arts-program-3/2028-12-26/
END:VEVENT
BEGIN:VEVENT
DTSTART;TZID=Australia/Perth:20290101T141500
DTEND;TZID=Australia/Perth:20290101T160000
DTSTAMP:20260421T155007
CREATED:20240920T054537Z
LAST-MODIFIED:20240920T054633Z
UID:10001773-1861971300-1861977600@hedlandshs.wa.edu.au
SUMMARY:Specialist Arts Program
DESCRIPTION:
URL:https://hedlandshs.wa.edu.au/calendar/specialist-arts-program-3/2029-01-01/
END:VEVENT
BEGIN:VEVENT
DTSTART;TZID=Australia/Perth:20290102T141500
DTEND;TZID=Australia/Perth:20290102T160000
DTSTAMP:20260421T155007
CREATED:20240920T054331Z
LAST-MODIFIED:20240920T054331Z
UID:10001295-1862057700-1862064000@hedlandshs.wa.edu.au
SUMMARY:Coding Club & Makerspace
DESCRIPTION:
URL:https://hedlandshs.wa.edu.au/calendar/coding-club-makerspace-2/2029-01-02/
END:VEVENT
BEGIN:VEVENT
DTSTART;TZID=Australia/Perth:20290102T141500
DTEND;TZID=Australia/Perth:20290102T160000
DTSTAMP:20260421T155007
CREATED:20240920T054537Z
LAST-MODIFIED:20240920T054633Z
UID:10001774-1862057700-1862064000@hedlandshs.wa.edu.au
SUMMARY:Specialist Arts Program
DESCRIPTION:
URL:https://hedlandshs.wa.edu.au/calendar/specialist-arts-program-3/2029-01-02/
END:VEVENT
BEGIN:VEVENT
DTSTART;TZID=Australia/Perth:20290108T141500
DTEND;TZID=Australia/Perth:20290108T160000
DTSTAMP:20260421T155007
CREATED:20240920T054537Z
LAST-MODIFIED:20240920T054633Z
UID:10001775-1862576100-1862582400@hedlandshs.wa.edu.au
SUMMARY:Specialist Arts Program
DESCRIPTION:
URL:https://hedlandshs.wa.edu.au/calendar/specialist-arts-program-3/2029-01-08/
END:VEVENT
BEGIN:VEVENT
DTSTART;TZID=Australia/Perth:20290109T141500
DTEND;TZID=Australia/Perth:20290109T160000
DTSTAMP:20260421T155007
CREATED:20240920T054331Z
LAST-MODIFIED:20240920T054331Z
UID:10001296-1862662500-1862668800@hedlandshs.wa.edu.au
SUMMARY:Coding Club & Makerspace
DESCRIPTION:
URL:https://hedlandshs.wa.edu.au/calendar/coding-club-makerspace-2/2029-01-09/
END:VEVENT
BEGIN:VEVENT
DTSTART;TZID=Australia/Perth:20290109T141500
DTEND;TZID=Australia/Perth:20290109T160000
DTSTAMP:20260421T155007
CREATED:20240920T054537Z
LAST-MODIFIED:20240920T054633Z
UID:10001776-1862662500-1862668800@hedlandshs.wa.edu.au
SUMMARY:Specialist Arts Program
DESCRIPTION:
URL:https://hedlandshs.wa.edu.au/calendar/specialist-arts-program-3/2029-01-09/
END:VEVENT
BEGIN:VEVENT
DTSTART;TZID=Australia/Perth:20290115T141500
DTEND;TZID=Australia/Perth:20290115T160000
DTSTAMP:20260421T155007
CREATED:20240920T054537Z
LAST-MODIFIED:20240920T054633Z
UID:10001777-1863180900-1863187200@hedlandshs.wa.edu.au
SUMMARY:Specialist Arts Program
DESCRIPTION:
URL:https://hedlandshs.wa.edu.au/calendar/specialist-arts-program-3/2029-01-15/
END:VEVENT
BEGIN:VEVENT
DTSTART;TZID=Australia/Perth:20290116T141500
DTEND;TZID=Australia/Perth:20290116T160000
DTSTAMP:20260421T155007
CREATED:20240920T054331Z
LAST-MODIFIED:20240920T054331Z
UID:10001297-1863267300-1863273600@hedlandshs.wa.edu.au
SUMMARY:Coding Club & Makerspace
DESCRIPTION:
URL:https://hedlandshs.wa.edu.au/calendar/coding-club-makerspace-2/2029-01-16/
END:VEVENT
BEGIN:VEVENT
DTSTART;TZID=Australia/Perth:20290116T141500
DTEND;TZID=Australia/Perth:20290116T160000
DTSTAMP:20260421T155007
CREATED:20240920T054537Z
LAST-MODIFIED:20240920T054633Z
UID:10001778-1863267300-1863273600@hedlandshs.wa.edu.au
SUMMARY:Specialist Arts Program
DESCRIPTION:
URL:https://hedlandshs.wa.edu.au/calendar/specialist-arts-program-3/2029-01-16/
END:VEVENT
BEGIN:VEVENT
DTSTART;TZID=Australia/Perth:20290122T141500
DTEND;TZID=Australia/Perth:20290122T160000
DTSTAMP:20260421T155007
CREATED:20240920T054537Z
LAST-MODIFIED:20240920T054633Z
UID:10001779-1863785700-1863792000@hedlandshs.wa.edu.au
SUMMARY:Specialist Arts Program
DESCRIPTION:
URL:https://hedlandshs.wa.edu.au/calendar/specialist-arts-program-3/2029-01-22/
END:VEVENT
BEGIN:VEVENT
DTSTART;TZID=Australia/Perth:20290123T141500
DTEND;TZID=Australia/Perth:20290123T160000
DTSTAMP:20260421T155007
CREATED:20240920T054331Z
LAST-MODIFIED:20240920T054331Z
UID:10001298-1863872100-1863878400@hedlandshs.wa.edu.au
SUMMARY:Coding Club & Makerspace
DESCRIPTION:
URL:https://hedlandshs.wa.edu.au/calendar/coding-club-makerspace-2/2029-01-23/
END:VEVENT
BEGIN:VEVENT
DTSTART;TZID=Australia/Perth:20290123T141500
DTEND;TZID=Australia/Perth:20290123T160000
DTSTAMP:20260421T155007
CREATED:20240920T054537Z
LAST-MODIFIED:20240920T054633Z
UID:10001780-1863872100-1863878400@hedlandshs.wa.edu.au
SUMMARY:Specialist Arts Program
DESCRIPTION:
URL:https://hedlandshs.wa.edu.au/calendar/specialist-arts-program-3/2029-01-23/
END:VEVENT
BEGIN:VEVENT
DTSTART;TZID=Australia/Perth:20290129T141500
DTEND;TZID=Australia/Perth:20290129T160000
DTSTAMP:20260421T155007
CREATED:20240920T054537Z
LAST-MODIFIED:20240920T054633Z
UID:10001781-1864390500-1864396800@hedlandshs.wa.edu.au
SUMMARY:Specialist Arts Program
DESCRIPTION:
URL:https://hedlandshs.wa.edu.au/calendar/specialist-arts-program-3/2029-01-29/
END:VEVENT
BEGIN:VEVENT
DTSTART;TZID=Australia/Perth:20290130T141500
DTEND;TZID=Australia/Perth:20290130T160000
DTSTAMP:20260421T155007
CREATED:20240920T054331Z
LAST-MODIFIED:20240920T054331Z
UID:10001299-1864476900-1864483200@hedlandshs.wa.edu.au
SUMMARY:Coding Club & Makerspace
DESCRIPTION:
URL:https://hedlandshs.wa.edu.au/calendar/coding-club-makerspace-2/2029-01-30/
END:VEVENT
BEGIN:VEVENT
DTSTART;TZID=Australia/Perth:20290130T141500
DTEND;TZID=Australia/Perth:20290130T160000
DTSTAMP:20260421T155007
CREATED:20240920T054537Z
LAST-MODIFIED:20240920T054633Z
UID:10001782-1864476900-1864483200@hedlandshs.wa.edu.au
SUMMARY:Specialist Arts Program
DESCRIPTION:
URL:https://hedlandshs.wa.edu.au/calendar/specialist-arts-program-3/2029-01-30/
END:VEVENT
BEGIN:VEVENT
DTSTART;TZID=Australia/Perth:20290205T141500
DTEND;TZID=Australia/Perth:20290205T160000
DTSTAMP:20260421T155007
CREATED:20240920T054537Z
LAST-MODIFIED:20240920T054633Z
UID:10001783-1864995300-1865001600@hedlandshs.wa.edu.au
SUMMARY:Specialist Arts Program
DESCRIPTION:
URL:https://hedlandshs.wa.edu.au/calendar/specialist-arts-program-3/2029-02-05/
END:VEVENT
BEGIN:VEVENT
DTSTART;TZID=Australia/Perth:20290206T141500
DTEND;TZID=Australia/Perth:20290206T160000
DTSTAMP:20260421T155007
CREATED:20240920T054331Z
LAST-MODIFIED:20240920T054331Z
UID:10001300-1865081700-1865088000@hedlandshs.wa.edu.au
SUMMARY:Coding Club & Makerspace
DESCRIPTION:
URL:https://hedlandshs.wa.edu.au/calendar/coding-club-makerspace-2/2029-02-06/
END:VEVENT
BEGIN:VEVENT
DTSTART;TZID=Australia/Perth:20290206T141500
DTEND;TZID=Australia/Perth:20290206T160000
DTSTAMP:20260421T155007
CREATED:20240920T054537Z
LAST-MODIFIED:20240920T054633Z
UID:10001784-1865081700-1865088000@hedlandshs.wa.edu.au
SUMMARY:Specialist Arts Program
DESCRIPTION:
URL:https://hedlandshs.wa.edu.au/calendar/specialist-arts-program-3/2029-02-06/
END:VEVENT
END:VCALENDAR