BEGIN:VCALENDAR
VERSION:2.0
PRODID:-//Hedland Senior High School - ECPv6.15.20//NONSGML v1.0//EN
CALSCALE:GREGORIAN
METHOD:PUBLISH
X-ORIGINAL-URL:https://hedlandshs.wa.edu.au
X-WR-CALDESC:Events for Hedland Senior High School
REFRESH-INTERVAL;VALUE=DURATION:PT1H
X-Robots-Tag:noindex
X-PUBLISHED-TTL:PT1H
BEGIN:VTIMEZONE
TZID:Australia/Perth
BEGIN:STANDARD
TZOFFSETFROM:+0800
TZOFFSETTO:+0800
TZNAME:AWST
DTSTART:20280101T000000
END:STANDARD
END:VTIMEZONE
BEGIN:VEVENT
DTSTART;TZID=Australia/Perth:20290305T141500
DTEND;TZID=Australia/Perth:20290305T160000
DTSTAMP:20260423T193118
CREATED:20240920T054537Z
LAST-MODIFIED:20240920T054633Z
UID:10001791-1867414500-1867420800@hedlandshs.wa.edu.au
SUMMARY:Specialist Arts Program
DESCRIPTION:
URL:https://hedlandshs.wa.edu.au/calendar/specialist-arts-program-3/2029-03-05/
END:VEVENT
BEGIN:VEVENT
DTSTART;TZID=Australia/Perth:20290306T141500
DTEND;TZID=Australia/Perth:20290306T160000
DTSTAMP:20260423T193118
CREATED:20240920T054331Z
LAST-MODIFIED:20240920T054331Z
UID:10001304-1867500900-1867507200@hedlandshs.wa.edu.au
SUMMARY:Coding Club & Makerspace
DESCRIPTION:
URL:https://hedlandshs.wa.edu.au/calendar/coding-club-makerspace-2/2029-03-06/
END:VEVENT
BEGIN:VEVENT
DTSTART;TZID=Australia/Perth:20290306T141500
DTEND;TZID=Australia/Perth:20290306T160000
DTSTAMP:20260423T193118
CREATED:20240920T054537Z
LAST-MODIFIED:20240920T054633Z
UID:10001792-1867500900-1867507200@hedlandshs.wa.edu.au
SUMMARY:Specialist Arts Program
DESCRIPTION:
URL:https://hedlandshs.wa.edu.au/calendar/specialist-arts-program-3/2029-03-06/
END:VEVENT
BEGIN:VEVENT
DTSTART;TZID=Australia/Perth:20290312T141500
DTEND;TZID=Australia/Perth:20290312T160000
DTSTAMP:20260423T193118
CREATED:20240920T054537Z
LAST-MODIFIED:20240920T054633Z
UID:10001793-1868019300-1868025600@hedlandshs.wa.edu.au
SUMMARY:Specialist Arts Program
DESCRIPTION:
URL:https://hedlandshs.wa.edu.au/calendar/specialist-arts-program-3/2029-03-12/
END:VEVENT
BEGIN:VEVENT
DTSTART;TZID=Australia/Perth:20290313T141500
DTEND;TZID=Australia/Perth:20290313T160000
DTSTAMP:20260423T193118
CREATED:20240920T054331Z
LAST-MODIFIED:20240920T054331Z
UID:10001305-1868105700-1868112000@hedlandshs.wa.edu.au
SUMMARY:Coding Club & Makerspace
DESCRIPTION:
URL:https://hedlandshs.wa.edu.au/calendar/coding-club-makerspace-2/2029-03-13/
END:VEVENT
BEGIN:VEVENT
DTSTART;TZID=Australia/Perth:20290313T141500
DTEND;TZID=Australia/Perth:20290313T160000
DTSTAMP:20260423T193118
CREATED:20240920T054537Z
LAST-MODIFIED:20240920T054633Z
UID:10001794-1868105700-1868112000@hedlandshs.wa.edu.au
SUMMARY:Specialist Arts Program
DESCRIPTION:
URL:https://hedlandshs.wa.edu.au/calendar/specialist-arts-program-3/2029-03-13/
END:VEVENT
BEGIN:VEVENT
DTSTART;TZID=Australia/Perth:20290319T141500
DTEND;TZID=Australia/Perth:20290319T160000
DTSTAMP:20260423T193118
CREATED:20240920T054537Z
LAST-MODIFIED:20240920T054633Z
UID:10001795-1868624100-1868630400@hedlandshs.wa.edu.au
SUMMARY:Specialist Arts Program
DESCRIPTION:
URL:https://hedlandshs.wa.edu.au/calendar/specialist-arts-program-3/2029-03-19/
END:VEVENT
BEGIN:VEVENT
DTSTART;TZID=Australia/Perth:20290320T141500
DTEND;TZID=Australia/Perth:20290320T160000
DTSTAMP:20260423T193118
CREATED:20240920T054331Z
LAST-MODIFIED:20240920T054331Z
UID:10001306-1868710500-1868716800@hedlandshs.wa.edu.au
SUMMARY:Coding Club & Makerspace
DESCRIPTION:
URL:https://hedlandshs.wa.edu.au/calendar/coding-club-makerspace-2/2029-03-20/
END:VEVENT
BEGIN:VEVENT
DTSTART;TZID=Australia/Perth:20290320T141500
DTEND;TZID=Australia/Perth:20290320T160000
DTSTAMP:20260423T193118
CREATED:20240920T054537Z
LAST-MODIFIED:20240920T054633Z
UID:10001796-1868710500-1868716800@hedlandshs.wa.edu.au
SUMMARY:Specialist Arts Program
DESCRIPTION:
URL:https://hedlandshs.wa.edu.au/calendar/specialist-arts-program-3/2029-03-20/
END:VEVENT
BEGIN:VEVENT
DTSTART;TZID=Australia/Perth:20290326T141500
DTEND;TZID=Australia/Perth:20290326T160000
DTSTAMP:20260423T193118
CREATED:20240920T054537Z
LAST-MODIFIED:20240920T054633Z
UID:10001797-1869228900-1869235200@hedlandshs.wa.edu.au
SUMMARY:Specialist Arts Program
DESCRIPTION:
URL:https://hedlandshs.wa.edu.au/calendar/specialist-arts-program-3/2029-03-26/
END:VEVENT
BEGIN:VEVENT
DTSTART;TZID=Australia/Perth:20290327T141500
DTEND;TZID=Australia/Perth:20290327T160000
DTSTAMP:20260423T193118
CREATED:20240920T054331Z
LAST-MODIFIED:20240920T054331Z
UID:10001307-1869315300-1869321600@hedlandshs.wa.edu.au
SUMMARY:Coding Club & Makerspace
DESCRIPTION:
URL:https://hedlandshs.wa.edu.au/calendar/coding-club-makerspace-2/2029-03-27/
END:VEVENT
BEGIN:VEVENT
DTSTART;TZID=Australia/Perth:20290327T141500
DTEND;TZID=Australia/Perth:20290327T160000
DTSTAMP:20260423T193118
CREATED:20240920T054537Z
LAST-MODIFIED:20240920T054633Z
UID:10001798-1869315300-1869321600@hedlandshs.wa.edu.au
SUMMARY:Specialist Arts Program
DESCRIPTION:
URL:https://hedlandshs.wa.edu.au/calendar/specialist-arts-program-3/2029-03-27/
END:VEVENT
BEGIN:VEVENT
DTSTART;TZID=Australia/Perth:20290402T141500
DTEND;TZID=Australia/Perth:20290402T160000
DTSTAMP:20260423T193118
CREATED:20240920T054537Z
LAST-MODIFIED:20240920T054633Z
UID:10001799-1869833700-1869840000@hedlandshs.wa.edu.au
SUMMARY:Specialist Arts Program
DESCRIPTION:
URL:https://hedlandshs.wa.edu.au/calendar/specialist-arts-program-3/2029-04-02/
END:VEVENT
BEGIN:VEVENT
DTSTART;TZID=Australia/Perth:20290403T141500
DTEND;TZID=Australia/Perth:20290403T160000
DTSTAMP:20260423T193118
CREATED:20240920T054331Z
LAST-MODIFIED:20240920T054331Z
UID:10001308-1869920100-1869926400@hedlandshs.wa.edu.au
SUMMARY:Coding Club & Makerspace
DESCRIPTION:
URL:https://hedlandshs.wa.edu.au/calendar/coding-club-makerspace-2/2029-04-03/
END:VEVENT
BEGIN:VEVENT
DTSTART;TZID=Australia/Perth:20290403T141500
DTEND;TZID=Australia/Perth:20290403T160000
DTSTAMP:20260423T193118
CREATED:20240920T054537Z
LAST-MODIFIED:20240920T054633Z
UID:10001800-1869920100-1869926400@hedlandshs.wa.edu.au
SUMMARY:Specialist Arts Program
DESCRIPTION:
URL:https://hedlandshs.wa.edu.au/calendar/specialist-arts-program-3/2029-04-03/
END:VEVENT
BEGIN:VEVENT
DTSTART;TZID=Australia/Perth:20290409T141500
DTEND;TZID=Australia/Perth:20290409T160000
DTSTAMP:20260423T193118
CREATED:20240920T054537Z
LAST-MODIFIED:20240920T054633Z
UID:10001801-1870438500-1870444800@hedlandshs.wa.edu.au
SUMMARY:Specialist Arts Program
DESCRIPTION:
URL:https://hedlandshs.wa.edu.au/calendar/specialist-arts-program-3/2029-04-09/
END:VEVENT
BEGIN:VEVENT
DTSTART;TZID=Australia/Perth:20290410T141500
DTEND;TZID=Australia/Perth:20290410T160000
DTSTAMP:20260423T193118
CREATED:20240920T054331Z
LAST-MODIFIED:20240920T054331Z
UID:10001309-1870524900-1870531200@hedlandshs.wa.edu.au
SUMMARY:Coding Club & Makerspace
DESCRIPTION:
URL:https://hedlandshs.wa.edu.au/calendar/coding-club-makerspace-2/2029-04-10/
END:VEVENT
BEGIN:VEVENT
DTSTART;TZID=Australia/Perth:20290410T141500
DTEND;TZID=Australia/Perth:20290410T160000
DTSTAMP:20260423T193118
CREATED:20240920T054537Z
LAST-MODIFIED:20240920T054633Z
UID:10001802-1870524900-1870531200@hedlandshs.wa.edu.au
SUMMARY:Specialist Arts Program
DESCRIPTION:
URL:https://hedlandshs.wa.edu.au/calendar/specialist-arts-program-3/2029-04-10/
END:VEVENT
BEGIN:VEVENT
DTSTART;TZID=Australia/Perth:20290416T141500
DTEND;TZID=Australia/Perth:20290416T160000
DTSTAMP:20260423T193118
CREATED:20240920T054537Z
LAST-MODIFIED:20240920T054633Z
UID:10001803-1871043300-1871049600@hedlandshs.wa.edu.au
SUMMARY:Specialist Arts Program
DESCRIPTION:
URL:https://hedlandshs.wa.edu.au/calendar/specialist-arts-program-3/2029-04-16/
END:VEVENT
BEGIN:VEVENT
DTSTART;TZID=Australia/Perth:20290417T141500
DTEND;TZID=Australia/Perth:20290417T160000
DTSTAMP:20260423T193118
CREATED:20240920T054331Z
LAST-MODIFIED:20240920T054331Z
UID:10001310-1871129700-1871136000@hedlandshs.wa.edu.au
SUMMARY:Coding Club & Makerspace
DESCRIPTION:
URL:https://hedlandshs.wa.edu.au/calendar/coding-club-makerspace-2/2029-04-17/
END:VEVENT
BEGIN:VEVENT
DTSTART;TZID=Australia/Perth:20290417T141500
DTEND;TZID=Australia/Perth:20290417T160000
DTSTAMP:20260423T193118
CREATED:20240920T054537Z
LAST-MODIFIED:20240920T054633Z
UID:10001804-1871129700-1871136000@hedlandshs.wa.edu.au
SUMMARY:Specialist Arts Program
DESCRIPTION:
URL:https://hedlandshs.wa.edu.au/calendar/specialist-arts-program-3/2029-04-17/
END:VEVENT
BEGIN:VEVENT
DTSTART;TZID=Australia/Perth:20290423T141500
DTEND;TZID=Australia/Perth:20290423T160000
DTSTAMP:20260423T193118
CREATED:20240920T054537Z
LAST-MODIFIED:20240920T054633Z
UID:10001805-1871648100-1871654400@hedlandshs.wa.edu.au
SUMMARY:Specialist Arts Program
DESCRIPTION:
URL:https://hedlandshs.wa.edu.au/calendar/specialist-arts-program-3/2029-04-23/
END:VEVENT
BEGIN:VEVENT
DTSTART;TZID=Australia/Perth:20290424T141500
DTEND;TZID=Australia/Perth:20290424T160000
DTSTAMP:20260423T193118
CREATED:20240920T054331Z
LAST-MODIFIED:20240920T054331Z
UID:10001311-1871734500-1871740800@hedlandshs.wa.edu.au
SUMMARY:Coding Club & Makerspace
DESCRIPTION:
URL:https://hedlandshs.wa.edu.au/calendar/coding-club-makerspace-2/2029-04-24/
END:VEVENT
BEGIN:VEVENT
DTSTART;TZID=Australia/Perth:20290424T141500
DTEND;TZID=Australia/Perth:20290424T160000
DTSTAMP:20260423T193118
CREATED:20240920T054537Z
LAST-MODIFIED:20240920T054633Z
UID:10001806-1871734500-1871740800@hedlandshs.wa.edu.au
SUMMARY:Specialist Arts Program
DESCRIPTION:
URL:https://hedlandshs.wa.edu.au/calendar/specialist-arts-program-3/2029-04-24/
END:VEVENT
BEGIN:VEVENT
DTSTART;TZID=Australia/Perth:20290430T141500
DTEND;TZID=Australia/Perth:20290430T160000
DTSTAMP:20260423T193118
CREATED:20240920T054537Z
LAST-MODIFIED:20240920T054633Z
UID:10001807-1872252900-1872259200@hedlandshs.wa.edu.au
SUMMARY:Specialist Arts Program
DESCRIPTION:
URL:https://hedlandshs.wa.edu.au/calendar/specialist-arts-program-3/2029-04-30/
END:VEVENT
BEGIN:VEVENT
DTSTART;TZID=Australia/Perth:20290501T141500
DTEND;TZID=Australia/Perth:20290501T160000
DTSTAMP:20260423T193118
CREATED:20240920T054331Z
LAST-MODIFIED:20240920T054331Z
UID:10001312-1872339300-1872345600@hedlandshs.wa.edu.au
SUMMARY:Coding Club & Makerspace
DESCRIPTION:
URL:https://hedlandshs.wa.edu.au/calendar/coding-club-makerspace-2/2029-05-01/
END:VEVENT
BEGIN:VEVENT
DTSTART;TZID=Australia/Perth:20290501T141500
DTEND;TZID=Australia/Perth:20290501T160000
DTSTAMP:20260423T193118
CREATED:20240920T054537Z
LAST-MODIFIED:20240920T054633Z
UID:10001808-1872339300-1872345600@hedlandshs.wa.edu.au
SUMMARY:Specialist Arts Program
DESCRIPTION:
URL:https://hedlandshs.wa.edu.au/calendar/specialist-arts-program-3/2029-05-01/
END:VEVENT
BEGIN:VEVENT
DTSTART;TZID=Australia/Perth:20290507T141500
DTEND;TZID=Australia/Perth:20290507T160000
DTSTAMP:20260423T193118
CREATED:20240920T054537Z
LAST-MODIFIED:20240920T054633Z
UID:10001809-1872857700-1872864000@hedlandshs.wa.edu.au
SUMMARY:Specialist Arts Program
DESCRIPTION:
URL:https://hedlandshs.wa.edu.au/calendar/specialist-arts-program-3/2029-05-07/
END:VEVENT
BEGIN:VEVENT
DTSTART;TZID=Australia/Perth:20290508T141500
DTEND;TZID=Australia/Perth:20290508T160000
DTSTAMP:20260423T193118
CREATED:20240920T054331Z
LAST-MODIFIED:20240920T054331Z
UID:10001313-1872944100-1872950400@hedlandshs.wa.edu.au
SUMMARY:Coding Club & Makerspace
DESCRIPTION:
URL:https://hedlandshs.wa.edu.au/calendar/coding-club-makerspace-2/2029-05-08/
END:VEVENT
BEGIN:VEVENT
DTSTART;TZID=Australia/Perth:20290508T141500
DTEND;TZID=Australia/Perth:20290508T160000
DTSTAMP:20260423T193118
CREATED:20240920T054537Z
LAST-MODIFIED:20240920T054633Z
UID:10001810-1872944100-1872950400@hedlandshs.wa.edu.au
SUMMARY:Specialist Arts Program
DESCRIPTION:
URL:https://hedlandshs.wa.edu.au/calendar/specialist-arts-program-3/2029-05-08/
END:VEVENT
END:VCALENDAR