BEGIN:VCALENDAR
VERSION:2.0
PRODID:-//Hedland Senior High School - ECPv6.15.20//NONSGML v1.0//EN
CALSCALE:GREGORIAN
METHOD:PUBLISH
X-ORIGINAL-URL:https://hedlandshs.wa.edu.au
X-WR-CALDESC:Events for Hedland Senior High School
REFRESH-INTERVAL;VALUE=DURATION:PT1H
X-Robots-Tag:noindex
X-PUBLISHED-TTL:PT1H
BEGIN:VTIMEZONE
TZID:Australia/Perth
BEGIN:STANDARD
TZOFFSETFROM:+0800
TZOFFSETTO:+0800
TZNAME:AWST
DTSTART:20280101T000000
END:STANDARD
END:VTIMEZONE
BEGIN:VEVENT
DTSTART;TZID=Australia/Perth:20290528T141500
DTEND;TZID=Australia/Perth:20290528T160000
DTSTAMP:20260424T002902
CREATED:20240920T054537Z
LAST-MODIFIED:20240920T054633Z
UID:10001815-1874672100-1874678400@hedlandshs.wa.edu.au
SUMMARY:Specialist Arts Program
DESCRIPTION:
URL:https://hedlandshs.wa.edu.au/calendar/specialist-arts-program-3/2029-05-28/
END:VEVENT
BEGIN:VEVENT
DTSTART;TZID=Australia/Perth:20290529T141500
DTEND;TZID=Australia/Perth:20290529T160000
DTSTAMP:20260424T002902
CREATED:20240920T054331Z
LAST-MODIFIED:20240920T054331Z
UID:10001316-1874758500-1874764800@hedlandshs.wa.edu.au
SUMMARY:Coding Club & Makerspace
DESCRIPTION:
URL:https://hedlandshs.wa.edu.au/calendar/coding-club-makerspace-2/2029-05-29/
END:VEVENT
BEGIN:VEVENT
DTSTART;TZID=Australia/Perth:20290529T141500
DTEND;TZID=Australia/Perth:20290529T160000
DTSTAMP:20260424T002902
CREATED:20240920T054537Z
LAST-MODIFIED:20240920T054633Z
UID:10001816-1874758500-1874764800@hedlandshs.wa.edu.au
SUMMARY:Specialist Arts Program
DESCRIPTION:
URL:https://hedlandshs.wa.edu.au/calendar/specialist-arts-program-3/2029-05-29/
END:VEVENT
BEGIN:VEVENT
DTSTART;TZID=Australia/Perth:20290604T141500
DTEND;TZID=Australia/Perth:20290604T160000
DTSTAMP:20260424T002902
CREATED:20240920T054537Z
LAST-MODIFIED:20240920T054633Z
UID:10001817-1875276900-1875283200@hedlandshs.wa.edu.au
SUMMARY:Specialist Arts Program
DESCRIPTION:
URL:https://hedlandshs.wa.edu.au/calendar/specialist-arts-program-3/2029-06-04/
END:VEVENT
BEGIN:VEVENT
DTSTART;TZID=Australia/Perth:20290605T141500
DTEND;TZID=Australia/Perth:20290605T160000
DTSTAMP:20260424T002902
CREATED:20240920T054331Z
LAST-MODIFIED:20240920T054331Z
UID:10001317-1875363300-1875369600@hedlandshs.wa.edu.au
SUMMARY:Coding Club & Makerspace
DESCRIPTION:
URL:https://hedlandshs.wa.edu.au/calendar/coding-club-makerspace-2/2029-06-05/
END:VEVENT
BEGIN:VEVENT
DTSTART;TZID=Australia/Perth:20290605T141500
DTEND;TZID=Australia/Perth:20290605T160000
DTSTAMP:20260424T002902
CREATED:20240920T054537Z
LAST-MODIFIED:20240920T054633Z
UID:10001818-1875363300-1875369600@hedlandshs.wa.edu.au
SUMMARY:Specialist Arts Program
DESCRIPTION:
URL:https://hedlandshs.wa.edu.au/calendar/specialist-arts-program-3/2029-06-05/
END:VEVENT
BEGIN:VEVENT
DTSTART;TZID=Australia/Perth:20290611T141500
DTEND;TZID=Australia/Perth:20290611T160000
DTSTAMP:20260424T002902
CREATED:20240920T054537Z
LAST-MODIFIED:20240920T054633Z
UID:10001819-1875881700-1875888000@hedlandshs.wa.edu.au
SUMMARY:Specialist Arts Program
DESCRIPTION:
URL:https://hedlandshs.wa.edu.au/calendar/specialist-arts-program-3/2029-06-11/
END:VEVENT
BEGIN:VEVENT
DTSTART;TZID=Australia/Perth:20290612T141500
DTEND;TZID=Australia/Perth:20290612T160000
DTSTAMP:20260424T002902
CREATED:20240920T054331Z
LAST-MODIFIED:20240920T054331Z
UID:10001318-1875968100-1875974400@hedlandshs.wa.edu.au
SUMMARY:Coding Club & Makerspace
DESCRIPTION:
URL:https://hedlandshs.wa.edu.au/calendar/coding-club-makerspace-2/2029-06-12/
END:VEVENT
BEGIN:VEVENT
DTSTART;TZID=Australia/Perth:20290612T141500
DTEND;TZID=Australia/Perth:20290612T160000
DTSTAMP:20260424T002902
CREATED:20240920T054537Z
LAST-MODIFIED:20240920T054633Z
UID:10001820-1875968100-1875974400@hedlandshs.wa.edu.au
SUMMARY:Specialist Arts Program
DESCRIPTION:
URL:https://hedlandshs.wa.edu.au/calendar/specialist-arts-program-3/2029-06-12/
END:VEVENT
BEGIN:VEVENT
DTSTART;TZID=Australia/Perth:20290618T141500
DTEND;TZID=Australia/Perth:20290618T160000
DTSTAMP:20260424T002902
CREATED:20240920T054537Z
LAST-MODIFIED:20240920T054633Z
UID:10001821-1876486500-1876492800@hedlandshs.wa.edu.au
SUMMARY:Specialist Arts Program
DESCRIPTION:
URL:https://hedlandshs.wa.edu.au/calendar/specialist-arts-program-3/2029-06-18/
END:VEVENT
BEGIN:VEVENT
DTSTART;TZID=Australia/Perth:20290619T141500
DTEND;TZID=Australia/Perth:20290619T160000
DTSTAMP:20260424T002902
CREATED:20240920T054331Z
LAST-MODIFIED:20240920T054331Z
UID:10001319-1876572900-1876579200@hedlandshs.wa.edu.au
SUMMARY:Coding Club & Makerspace
DESCRIPTION:
URL:https://hedlandshs.wa.edu.au/calendar/coding-club-makerspace-2/2029-06-19/
END:VEVENT
BEGIN:VEVENT
DTSTART;TZID=Australia/Perth:20290619T141500
DTEND;TZID=Australia/Perth:20290619T160000
DTSTAMP:20260424T002903
CREATED:20240920T054537Z
LAST-MODIFIED:20240920T054633Z
UID:10001822-1876572900-1876579200@hedlandshs.wa.edu.au
SUMMARY:Specialist Arts Program
DESCRIPTION:
URL:https://hedlandshs.wa.edu.au/calendar/specialist-arts-program-3/2029-06-19/
END:VEVENT
BEGIN:VEVENT
DTSTART;TZID=Australia/Perth:20290625T141500
DTEND;TZID=Australia/Perth:20290625T160000
DTSTAMP:20260424T002903
CREATED:20240920T054537Z
LAST-MODIFIED:20240920T054633Z
UID:10001823-1877091300-1877097600@hedlandshs.wa.edu.au
SUMMARY:Specialist Arts Program
DESCRIPTION:
URL:https://hedlandshs.wa.edu.au/calendar/specialist-arts-program-3/2029-06-25/
END:VEVENT
BEGIN:VEVENT
DTSTART;TZID=Australia/Perth:20290626T141500
DTEND;TZID=Australia/Perth:20290626T160000
DTSTAMP:20260424T002903
CREATED:20240920T054331Z
LAST-MODIFIED:20240920T054331Z
UID:10001320-1877177700-1877184000@hedlandshs.wa.edu.au
SUMMARY:Coding Club & Makerspace
DESCRIPTION:
URL:https://hedlandshs.wa.edu.au/calendar/coding-club-makerspace-2/2029-06-26/
END:VEVENT
BEGIN:VEVENT
DTSTART;TZID=Australia/Perth:20290626T141500
DTEND;TZID=Australia/Perth:20290626T160000
DTSTAMP:20260424T002903
CREATED:20240920T054537Z
LAST-MODIFIED:20240920T054633Z
UID:10001824-1877177700-1877184000@hedlandshs.wa.edu.au
SUMMARY:Specialist Arts Program
DESCRIPTION:
URL:https://hedlandshs.wa.edu.au/calendar/specialist-arts-program-3/2029-06-26/
END:VEVENT
BEGIN:VEVENT
DTSTART;TZID=Australia/Perth:20290702T141500
DTEND;TZID=Australia/Perth:20290702T160000
DTSTAMP:20260424T002903
CREATED:20240920T054537Z
LAST-MODIFIED:20240920T054633Z
UID:10001825-1877696100-1877702400@hedlandshs.wa.edu.au
SUMMARY:Specialist Arts Program
DESCRIPTION:
URL:https://hedlandshs.wa.edu.au/calendar/specialist-arts-program-3/2029-07-02/
END:VEVENT
BEGIN:VEVENT
DTSTART;TZID=Australia/Perth:20290703T141500
DTEND;TZID=Australia/Perth:20290703T160000
DTSTAMP:20260424T002903
CREATED:20240920T054331Z
LAST-MODIFIED:20240920T054331Z
UID:10001321-1877782500-1877788800@hedlandshs.wa.edu.au
SUMMARY:Coding Club & Makerspace
DESCRIPTION:
URL:https://hedlandshs.wa.edu.au/calendar/coding-club-makerspace-2/2029-07-03/
END:VEVENT
BEGIN:VEVENT
DTSTART;TZID=Australia/Perth:20290703T141500
DTEND;TZID=Australia/Perth:20290703T160000
DTSTAMP:20260424T002903
CREATED:20240920T054537Z
LAST-MODIFIED:20240920T054633Z
UID:10001826-1877782500-1877788800@hedlandshs.wa.edu.au
SUMMARY:Specialist Arts Program
DESCRIPTION:
URL:https://hedlandshs.wa.edu.au/calendar/specialist-arts-program-3/2029-07-03/
END:VEVENT
BEGIN:VEVENT
DTSTART;TZID=Australia/Perth:20290709T141500
DTEND;TZID=Australia/Perth:20290709T160000
DTSTAMP:20260424T002903
CREATED:20240920T054537Z
LAST-MODIFIED:20240920T054633Z
UID:10001827-1878300900-1878307200@hedlandshs.wa.edu.au
SUMMARY:Specialist Arts Program
DESCRIPTION:
URL:https://hedlandshs.wa.edu.au/calendar/specialist-arts-program-3/2029-07-09/
END:VEVENT
BEGIN:VEVENT
DTSTART;TZID=Australia/Perth:20290710T141500
DTEND;TZID=Australia/Perth:20290710T160000
DTSTAMP:20260424T002903
CREATED:20240920T054331Z
LAST-MODIFIED:20240920T054331Z
UID:10001322-1878387300-1878393600@hedlandshs.wa.edu.au
SUMMARY:Coding Club & Makerspace
DESCRIPTION:
URL:https://hedlandshs.wa.edu.au/calendar/coding-club-makerspace-2/2029-07-10/
END:VEVENT
BEGIN:VEVENT
DTSTART;TZID=Australia/Perth:20290710T141500
DTEND;TZID=Australia/Perth:20290710T160000
DTSTAMP:20260424T002903
CREATED:20240920T054537Z
LAST-MODIFIED:20240920T054633Z
UID:10001828-1878387300-1878393600@hedlandshs.wa.edu.au
SUMMARY:Specialist Arts Program
DESCRIPTION:
URL:https://hedlandshs.wa.edu.au/calendar/specialist-arts-program-3/2029-07-10/
END:VEVENT
BEGIN:VEVENT
DTSTART;TZID=Australia/Perth:20290716T141500
DTEND;TZID=Australia/Perth:20290716T160000
DTSTAMP:20260424T002903
CREATED:20240920T054537Z
LAST-MODIFIED:20240920T054633Z
UID:10001829-1878905700-1878912000@hedlandshs.wa.edu.au
SUMMARY:Specialist Arts Program
DESCRIPTION:
URL:https://hedlandshs.wa.edu.au/calendar/specialist-arts-program-3/2029-07-16/
END:VEVENT
BEGIN:VEVENT
DTSTART;TZID=Australia/Perth:20290717T141500
DTEND;TZID=Australia/Perth:20290717T160000
DTSTAMP:20260424T002903
CREATED:20240920T054331Z
LAST-MODIFIED:20240920T054331Z
UID:10001323-1878992100-1878998400@hedlandshs.wa.edu.au
SUMMARY:Coding Club & Makerspace
DESCRIPTION:
URL:https://hedlandshs.wa.edu.au/calendar/coding-club-makerspace-2/2029-07-17/
END:VEVENT
BEGIN:VEVENT
DTSTART;TZID=Australia/Perth:20290717T141500
DTEND;TZID=Australia/Perth:20290717T160000
DTSTAMP:20260424T002903
CREATED:20240920T054537Z
LAST-MODIFIED:20240920T054633Z
UID:10001830-1878992100-1878998400@hedlandshs.wa.edu.au
SUMMARY:Specialist Arts Program
DESCRIPTION:
URL:https://hedlandshs.wa.edu.au/calendar/specialist-arts-program-3/2029-07-17/
END:VEVENT
BEGIN:VEVENT
DTSTART;TZID=Australia/Perth:20290723T141500
DTEND;TZID=Australia/Perth:20290723T160000
DTSTAMP:20260424T002903
CREATED:20240920T054537Z
LAST-MODIFIED:20240920T054633Z
UID:10001831-1879510500-1879516800@hedlandshs.wa.edu.au
SUMMARY:Specialist Arts Program
DESCRIPTION:
URL:https://hedlandshs.wa.edu.au/calendar/specialist-arts-program-3/2029-07-23/
END:VEVENT
BEGIN:VEVENT
DTSTART;TZID=Australia/Perth:20290724T141500
DTEND;TZID=Australia/Perth:20290724T160000
DTSTAMP:20260424T002903
CREATED:20240920T054331Z
LAST-MODIFIED:20240920T054331Z
UID:10001324-1879596900-1879603200@hedlandshs.wa.edu.au
SUMMARY:Coding Club & Makerspace
DESCRIPTION:
URL:https://hedlandshs.wa.edu.au/calendar/coding-club-makerspace-2/2029-07-24/
END:VEVENT
BEGIN:VEVENT
DTSTART;TZID=Australia/Perth:20290724T141500
DTEND;TZID=Australia/Perth:20290724T160000
DTSTAMP:20260424T002903
CREATED:20240920T054537Z
LAST-MODIFIED:20240920T054633Z
UID:10001832-1879596900-1879603200@hedlandshs.wa.edu.au
SUMMARY:Specialist Arts Program
DESCRIPTION:
URL:https://hedlandshs.wa.edu.au/calendar/specialist-arts-program-3/2029-07-24/
END:VEVENT
BEGIN:VEVENT
DTSTART;TZID=Australia/Perth:20290730T141500
DTEND;TZID=Australia/Perth:20290730T160000
DTSTAMP:20260424T002903
CREATED:20240920T054537Z
LAST-MODIFIED:20240920T054633Z
UID:10001833-1880115300-1880121600@hedlandshs.wa.edu.au
SUMMARY:Specialist Arts Program
DESCRIPTION:
URL:https://hedlandshs.wa.edu.au/calendar/specialist-arts-program-3/2029-07-30/
END:VEVENT
BEGIN:VEVENT
DTSTART;TZID=Australia/Perth:20290731T141500
DTEND;TZID=Australia/Perth:20290731T160000
DTSTAMP:20260424T002903
CREATED:20240920T054331Z
LAST-MODIFIED:20240920T054331Z
UID:10001325-1880201700-1880208000@hedlandshs.wa.edu.au
SUMMARY:Coding Club & Makerspace
DESCRIPTION:
URL:https://hedlandshs.wa.edu.au/calendar/coding-club-makerspace-2/2029-07-31/
END:VEVENT
BEGIN:VEVENT
DTSTART;TZID=Australia/Perth:20290731T141500
DTEND;TZID=Australia/Perth:20290731T160000
DTSTAMP:20260424T002903
CREATED:20240920T054537Z
LAST-MODIFIED:20240920T054633Z
UID:10001834-1880201700-1880208000@hedlandshs.wa.edu.au
SUMMARY:Specialist Arts Program
DESCRIPTION:
URL:https://hedlandshs.wa.edu.au/calendar/specialist-arts-program-3/2029-07-31/
END:VEVENT
END:VCALENDAR