BEGIN:VCALENDAR
VERSION:2.0
PRODID:-//Hedland Senior High School - ECPv6.15.20//NONSGML v1.0//EN
CALSCALE:GREGORIAN
METHOD:PUBLISH
X-ORIGINAL-URL:https://hedlandshs.wa.edu.au
X-WR-CALDESC:Events for Hedland Senior High School
REFRESH-INTERVAL;VALUE=DURATION:PT1H
X-Robots-Tag:noindex
X-PUBLISHED-TTL:PT1H
BEGIN:VTIMEZONE
TZID:Australia/Perth
BEGIN:STANDARD
TZOFFSETFROM:+0800
TZOFFSETTO:+0800
TZNAME:AWST
DTSTART:20280101T000000
END:STANDARD
END:VTIMEZONE
BEGIN:VEVENT
DTSTART;TZID=Australia/Perth:20290709T141500
DTEND;TZID=Australia/Perth:20290709T160000
DTSTAMP:20260424T075748
CREATED:20240920T054537Z
LAST-MODIFIED:20240920T054633Z
UID:10001827-1878300900-1878307200@hedlandshs.wa.edu.au
SUMMARY:Specialist Arts Program
DESCRIPTION:
URL:https://hedlandshs.wa.edu.au/calendar/specialist-arts-program-3/2029-07-09/
END:VEVENT
BEGIN:VEVENT
DTSTART;TZID=Australia/Perth:20290710T141500
DTEND;TZID=Australia/Perth:20290710T160000
DTSTAMP:20260424T075748
CREATED:20240920T054331Z
LAST-MODIFIED:20240920T054331Z
UID:10001322-1878387300-1878393600@hedlandshs.wa.edu.au
SUMMARY:Coding Club & Makerspace
DESCRIPTION:
URL:https://hedlandshs.wa.edu.au/calendar/coding-club-makerspace-2/2029-07-10/
END:VEVENT
BEGIN:VEVENT
DTSTART;TZID=Australia/Perth:20290710T141500
DTEND;TZID=Australia/Perth:20290710T160000
DTSTAMP:20260424T075748
CREATED:20240920T054537Z
LAST-MODIFIED:20240920T054633Z
UID:10001828-1878387300-1878393600@hedlandshs.wa.edu.au
SUMMARY:Specialist Arts Program
DESCRIPTION:
URL:https://hedlandshs.wa.edu.au/calendar/specialist-arts-program-3/2029-07-10/
END:VEVENT
BEGIN:VEVENT
DTSTART;TZID=Australia/Perth:20290716T141500
DTEND;TZID=Australia/Perth:20290716T160000
DTSTAMP:20260424T075748
CREATED:20240920T054537Z
LAST-MODIFIED:20240920T054633Z
UID:10001829-1878905700-1878912000@hedlandshs.wa.edu.au
SUMMARY:Specialist Arts Program
DESCRIPTION:
URL:https://hedlandshs.wa.edu.au/calendar/specialist-arts-program-3/2029-07-16/
END:VEVENT
BEGIN:VEVENT
DTSTART;TZID=Australia/Perth:20290717T141500
DTEND;TZID=Australia/Perth:20290717T160000
DTSTAMP:20260424T075748
CREATED:20240920T054331Z
LAST-MODIFIED:20240920T054331Z
UID:10001323-1878992100-1878998400@hedlandshs.wa.edu.au
SUMMARY:Coding Club & Makerspace
DESCRIPTION:
URL:https://hedlandshs.wa.edu.au/calendar/coding-club-makerspace-2/2029-07-17/
END:VEVENT
BEGIN:VEVENT
DTSTART;TZID=Australia/Perth:20290717T141500
DTEND;TZID=Australia/Perth:20290717T160000
DTSTAMP:20260424T075748
CREATED:20240920T054537Z
LAST-MODIFIED:20240920T054633Z
UID:10001830-1878992100-1878998400@hedlandshs.wa.edu.au
SUMMARY:Specialist Arts Program
DESCRIPTION:
URL:https://hedlandshs.wa.edu.au/calendar/specialist-arts-program-3/2029-07-17/
END:VEVENT
BEGIN:VEVENT
DTSTART;TZID=Australia/Perth:20290723T141500
DTEND;TZID=Australia/Perth:20290723T160000
DTSTAMP:20260424T075748
CREATED:20240920T054537Z
LAST-MODIFIED:20240920T054633Z
UID:10001831-1879510500-1879516800@hedlandshs.wa.edu.au
SUMMARY:Specialist Arts Program
DESCRIPTION:
URL:https://hedlandshs.wa.edu.au/calendar/specialist-arts-program-3/2029-07-23/
END:VEVENT
BEGIN:VEVENT
DTSTART;TZID=Australia/Perth:20290724T141500
DTEND;TZID=Australia/Perth:20290724T160000
DTSTAMP:20260424T075748
CREATED:20240920T054331Z
LAST-MODIFIED:20240920T054331Z
UID:10001324-1879596900-1879603200@hedlandshs.wa.edu.au
SUMMARY:Coding Club & Makerspace
DESCRIPTION:
URL:https://hedlandshs.wa.edu.au/calendar/coding-club-makerspace-2/2029-07-24/
END:VEVENT
BEGIN:VEVENT
DTSTART;TZID=Australia/Perth:20290724T141500
DTEND;TZID=Australia/Perth:20290724T160000
DTSTAMP:20260424T075748
CREATED:20240920T054537Z
LAST-MODIFIED:20240920T054633Z
UID:10001832-1879596900-1879603200@hedlandshs.wa.edu.au
SUMMARY:Specialist Arts Program
DESCRIPTION:
URL:https://hedlandshs.wa.edu.au/calendar/specialist-arts-program-3/2029-07-24/
END:VEVENT
BEGIN:VEVENT
DTSTART;TZID=Australia/Perth:20290730T141500
DTEND;TZID=Australia/Perth:20290730T160000
DTSTAMP:20260424T075748
CREATED:20240920T054537Z
LAST-MODIFIED:20240920T054633Z
UID:10001833-1880115300-1880121600@hedlandshs.wa.edu.au
SUMMARY:Specialist Arts Program
DESCRIPTION:
URL:https://hedlandshs.wa.edu.au/calendar/specialist-arts-program-3/2029-07-30/
END:VEVENT
BEGIN:VEVENT
DTSTART;TZID=Australia/Perth:20290731T141500
DTEND;TZID=Australia/Perth:20290731T160000
DTSTAMP:20260424T075748
CREATED:20240920T054331Z
LAST-MODIFIED:20240920T054331Z
UID:10001325-1880201700-1880208000@hedlandshs.wa.edu.au
SUMMARY:Coding Club & Makerspace
DESCRIPTION:
URL:https://hedlandshs.wa.edu.au/calendar/coding-club-makerspace-2/2029-07-31/
END:VEVENT
BEGIN:VEVENT
DTSTART;TZID=Australia/Perth:20290731T141500
DTEND;TZID=Australia/Perth:20290731T160000
DTSTAMP:20260424T075748
CREATED:20240920T054537Z
LAST-MODIFIED:20240920T054633Z
UID:10001834-1880201700-1880208000@hedlandshs.wa.edu.au
SUMMARY:Specialist Arts Program
DESCRIPTION:
URL:https://hedlandshs.wa.edu.au/calendar/specialist-arts-program-3/2029-07-31/
END:VEVENT
BEGIN:VEVENT
DTSTART;TZID=Australia/Perth:20290806T141500
DTEND;TZID=Australia/Perth:20290806T160000
DTSTAMP:20260424T075748
CREATED:20240920T054537Z
LAST-MODIFIED:20240920T054633Z
UID:10001835-1880720100-1880726400@hedlandshs.wa.edu.au
SUMMARY:Specialist Arts Program
DESCRIPTION:
URL:https://hedlandshs.wa.edu.au/calendar/specialist-arts-program-3/2029-08-06/
END:VEVENT
BEGIN:VEVENT
DTSTART;TZID=Australia/Perth:20290807T141500
DTEND;TZID=Australia/Perth:20290807T160000
DTSTAMP:20260424T075748
CREATED:20240920T054331Z
LAST-MODIFIED:20240920T054331Z
UID:10001326-1880806500-1880812800@hedlandshs.wa.edu.au
SUMMARY:Coding Club & Makerspace
DESCRIPTION:
URL:https://hedlandshs.wa.edu.au/calendar/coding-club-makerspace-2/2029-08-07/
END:VEVENT
BEGIN:VEVENT
DTSTART;TZID=Australia/Perth:20290807T141500
DTEND;TZID=Australia/Perth:20290807T160000
DTSTAMP:20260424T075748
CREATED:20240920T054537Z
LAST-MODIFIED:20240920T054633Z
UID:10001836-1880806500-1880812800@hedlandshs.wa.edu.au
SUMMARY:Specialist Arts Program
DESCRIPTION:
URL:https://hedlandshs.wa.edu.au/calendar/specialist-arts-program-3/2029-08-07/
END:VEVENT
BEGIN:VEVENT
DTSTART;TZID=Australia/Perth:20290813T141500
DTEND;TZID=Australia/Perth:20290813T160000
DTSTAMP:20260424T075748
CREATED:20240920T054537Z
LAST-MODIFIED:20240920T054633Z
UID:10001837-1881324900-1881331200@hedlandshs.wa.edu.au
SUMMARY:Specialist Arts Program
DESCRIPTION:
URL:https://hedlandshs.wa.edu.au/calendar/specialist-arts-program-3/2029-08-13/
END:VEVENT
BEGIN:VEVENT
DTSTART;TZID=Australia/Perth:20290814T141500
DTEND;TZID=Australia/Perth:20290814T160000
DTSTAMP:20260424T075748
CREATED:20240920T054331Z
LAST-MODIFIED:20240920T054331Z
UID:10001327-1881411300-1881417600@hedlandshs.wa.edu.au
SUMMARY:Coding Club & Makerspace
DESCRIPTION:
URL:https://hedlandshs.wa.edu.au/calendar/coding-club-makerspace-2/2029-08-14/
END:VEVENT
BEGIN:VEVENT
DTSTART;TZID=Australia/Perth:20290814T141500
DTEND;TZID=Australia/Perth:20290814T160000
DTSTAMP:20260424T075748
CREATED:20240920T054537Z
LAST-MODIFIED:20240920T054633Z
UID:10001838-1881411300-1881417600@hedlandshs.wa.edu.au
SUMMARY:Specialist Arts Program
DESCRIPTION:
URL:https://hedlandshs.wa.edu.au/calendar/specialist-arts-program-3/2029-08-14/
END:VEVENT
BEGIN:VEVENT
DTSTART;TZID=Australia/Perth:20290820T141500
DTEND;TZID=Australia/Perth:20290820T160000
DTSTAMP:20260424T075748
CREATED:20240920T054537Z
LAST-MODIFIED:20240920T054633Z
UID:10001839-1881929700-1881936000@hedlandshs.wa.edu.au
SUMMARY:Specialist Arts Program
DESCRIPTION:
URL:https://hedlandshs.wa.edu.au/calendar/specialist-arts-program-3/2029-08-20/
END:VEVENT
BEGIN:VEVENT
DTSTART;TZID=Australia/Perth:20290821T141500
DTEND;TZID=Australia/Perth:20290821T160000
DTSTAMP:20260424T075748
CREATED:20240920T054331Z
LAST-MODIFIED:20240920T054331Z
UID:10001328-1882016100-1882022400@hedlandshs.wa.edu.au
SUMMARY:Coding Club & Makerspace
DESCRIPTION:
URL:https://hedlandshs.wa.edu.au/calendar/coding-club-makerspace-2/2029-08-21/
END:VEVENT
BEGIN:VEVENT
DTSTART;TZID=Australia/Perth:20290821T141500
DTEND;TZID=Australia/Perth:20290821T160000
DTSTAMP:20260424T075748
CREATED:20240920T054537Z
LAST-MODIFIED:20240920T054633Z
UID:10001840-1882016100-1882022400@hedlandshs.wa.edu.au
SUMMARY:Specialist Arts Program
DESCRIPTION:
URL:https://hedlandshs.wa.edu.au/calendar/specialist-arts-program-3/2029-08-21/
END:VEVENT
BEGIN:VEVENT
DTSTART;TZID=Australia/Perth:20290827T141500
DTEND;TZID=Australia/Perth:20290827T160000
DTSTAMP:20260424T075748
CREATED:20240920T054537Z
LAST-MODIFIED:20240920T054633Z
UID:10001841-1882534500-1882540800@hedlandshs.wa.edu.au
SUMMARY:Specialist Arts Program
DESCRIPTION:
URL:https://hedlandshs.wa.edu.au/calendar/specialist-arts-program-3/2029-08-27/
END:VEVENT
BEGIN:VEVENT
DTSTART;TZID=Australia/Perth:20290828T141500
DTEND;TZID=Australia/Perth:20290828T160000
DTSTAMP:20260424T075748
CREATED:20240920T054331Z
LAST-MODIFIED:20240920T054331Z
UID:10001329-1882620900-1882627200@hedlandshs.wa.edu.au
SUMMARY:Coding Club & Makerspace
DESCRIPTION:
URL:https://hedlandshs.wa.edu.au/calendar/coding-club-makerspace-2/2029-08-28/
END:VEVENT
BEGIN:VEVENT
DTSTART;TZID=Australia/Perth:20290828T141500
DTEND;TZID=Australia/Perth:20290828T160000
DTSTAMP:20260424T075748
CREATED:20240920T054537Z
LAST-MODIFIED:20240920T054633Z
UID:10001842-1882620900-1882627200@hedlandshs.wa.edu.au
SUMMARY:Specialist Arts Program
DESCRIPTION:
URL:https://hedlandshs.wa.edu.au/calendar/specialist-arts-program-3/2029-08-28/
END:VEVENT
BEGIN:VEVENT
DTSTART;TZID=Australia/Perth:20290903T141500
DTEND;TZID=Australia/Perth:20290903T160000
DTSTAMP:20260424T075748
CREATED:20240920T054537Z
LAST-MODIFIED:20240920T054633Z
UID:10001843-1883139300-1883145600@hedlandshs.wa.edu.au
SUMMARY:Specialist Arts Program
DESCRIPTION:
URL:https://hedlandshs.wa.edu.au/calendar/specialist-arts-program-3/2029-09-03/
END:VEVENT
BEGIN:VEVENT
DTSTART;TZID=Australia/Perth:20290904T141500
DTEND;TZID=Australia/Perth:20290904T160000
DTSTAMP:20260424T075748
CREATED:20240920T054331Z
LAST-MODIFIED:20240920T054331Z
UID:10001330-1883225700-1883232000@hedlandshs.wa.edu.au
SUMMARY:Coding Club & Makerspace
DESCRIPTION:
URL:https://hedlandshs.wa.edu.au/calendar/coding-club-makerspace-2/2029-09-04/
END:VEVENT
BEGIN:VEVENT
DTSTART;TZID=Australia/Perth:20290904T141500
DTEND;TZID=Australia/Perth:20290904T160000
DTSTAMP:20260424T075748
CREATED:20240920T054537Z
LAST-MODIFIED:20240920T054633Z
UID:10001844-1883225700-1883232000@hedlandshs.wa.edu.au
SUMMARY:Specialist Arts Program
DESCRIPTION:
URL:https://hedlandshs.wa.edu.au/calendar/specialist-arts-program-3/2029-09-04/
END:VEVENT
BEGIN:VEVENT
DTSTART;TZID=Australia/Perth:20290910T141500
DTEND;TZID=Australia/Perth:20290910T160000
DTSTAMP:20260424T075748
CREATED:20240920T054537Z
LAST-MODIFIED:20240920T054633Z
UID:10001845-1883744100-1883750400@hedlandshs.wa.edu.au
SUMMARY:Specialist Arts Program
DESCRIPTION:
URL:https://hedlandshs.wa.edu.au/calendar/specialist-arts-program-3/2029-09-10/
END:VEVENT
BEGIN:VEVENT
DTSTART;TZID=Australia/Perth:20290911T141500
DTEND;TZID=Australia/Perth:20290911T160000
DTSTAMP:20260424T075748
CREATED:20240920T054331Z
LAST-MODIFIED:20240920T054331Z
UID:10001331-1883830500-1883836800@hedlandshs.wa.edu.au
SUMMARY:Coding Club & Makerspace
DESCRIPTION:
URL:https://hedlandshs.wa.edu.au/calendar/coding-club-makerspace-2/2029-09-11/
END:VEVENT
BEGIN:VEVENT
DTSTART;TZID=Australia/Perth:20290911T141500
DTEND;TZID=Australia/Perth:20290911T160000
DTSTAMP:20260424T075748
CREATED:20240920T054537Z
LAST-MODIFIED:20240920T054633Z
UID:10001846-1883830500-1883836800@hedlandshs.wa.edu.au
SUMMARY:Specialist Arts Program
DESCRIPTION:
URL:https://hedlandshs.wa.edu.au/calendar/specialist-arts-program-3/2029-09-11/
END:VEVENT
END:VCALENDAR