BEGIN:VCALENDAR
VERSION:2.0
PRODID:-//Hedland Senior High School - ECPv6.15.20//NONSGML v1.0//EN
CALSCALE:GREGORIAN
METHOD:PUBLISH
X-ORIGINAL-URL:https://hedlandshs.wa.edu.au
X-WR-CALDESC:Events for Hedland Senior High School
REFRESH-INTERVAL;VALUE=DURATION:PT1H
X-Robots-Tag:noindex
X-PUBLISHED-TTL:PT1H
BEGIN:VTIMEZONE
TZID:Australia/Perth
BEGIN:STANDARD
TZOFFSETFROM:+0800
TZOFFSETTO:+0800
TZNAME:AWST
DTSTART:20250101T000000
END:STANDARD
END:VTIMEZONE
BEGIN:VEVENT
DTSTART;TZID=Australia/Perth:20260105T141500
DTEND;TZID=Australia/Perth:20260105T160000
DTSTAMP:20260424T202520
CREATED:20240920T054537Z
LAST-MODIFIED:20240920T054633Z
UID:10001461-1767622500-1767628800@hedlandshs.wa.edu.au
SUMMARY:Specialist Arts Program
DESCRIPTION:
URL:https://hedlandshs.wa.edu.au/calendar/specialist-arts-program-3/2026-01-05/
END:VEVENT
BEGIN:VEVENT
DTSTART;TZID=Australia/Perth:20260106T141500
DTEND;TZID=Australia/Perth:20260106T160000
DTSTAMP:20260424T202520
CREATED:20240920T054331Z
LAST-MODIFIED:20240920T054331Z
UID:10001139-1767708900-1767715200@hedlandshs.wa.edu.au
SUMMARY:Coding Club & Makerspace
DESCRIPTION:
URL:https://hedlandshs.wa.edu.au/calendar/coding-club-makerspace-2/2026-01-06/
END:VEVENT
BEGIN:VEVENT
DTSTART;TZID=Australia/Perth:20260106T141500
DTEND;TZID=Australia/Perth:20260106T160000
DTSTAMP:20260424T202520
CREATED:20240920T054537Z
LAST-MODIFIED:20240920T054633Z
UID:10001462-1767708900-1767715200@hedlandshs.wa.edu.au
SUMMARY:Specialist Arts Program
DESCRIPTION:
URL:https://hedlandshs.wa.edu.au/calendar/specialist-arts-program-3/2026-01-06/
END:VEVENT
BEGIN:VEVENT
DTSTART;TZID=Australia/Perth:20260112T141500
DTEND;TZID=Australia/Perth:20260112T160000
DTSTAMP:20260424T202520
CREATED:20240920T054537Z
LAST-MODIFIED:20240920T054633Z
UID:10001463-1768227300-1768233600@hedlandshs.wa.edu.au
SUMMARY:Specialist Arts Program
DESCRIPTION:
URL:https://hedlandshs.wa.edu.au/calendar/specialist-arts-program-3/2026-01-12/
END:VEVENT
BEGIN:VEVENT
DTSTART;TZID=Australia/Perth:20260113T141500
DTEND;TZID=Australia/Perth:20260113T160000
DTSTAMP:20260424T202520
CREATED:20240920T054331Z
LAST-MODIFIED:20240920T054331Z
UID:10001140-1768313700-1768320000@hedlandshs.wa.edu.au
SUMMARY:Coding Club & Makerspace
DESCRIPTION:
URL:https://hedlandshs.wa.edu.au/calendar/coding-club-makerspace-2/2026-01-13/
END:VEVENT
BEGIN:VEVENT
DTSTART;TZID=Australia/Perth:20260113T141500
DTEND;TZID=Australia/Perth:20260113T160000
DTSTAMP:20260424T202520
CREATED:20240920T054537Z
LAST-MODIFIED:20240920T054633Z
UID:10001464-1768313700-1768320000@hedlandshs.wa.edu.au
SUMMARY:Specialist Arts Program
DESCRIPTION:
URL:https://hedlandshs.wa.edu.au/calendar/specialist-arts-program-3/2026-01-13/
END:VEVENT
BEGIN:VEVENT
DTSTART;TZID=Australia/Perth:20260119T141500
DTEND;TZID=Australia/Perth:20260119T160000
DTSTAMP:20260424T202520
CREATED:20240920T054537Z
LAST-MODIFIED:20240920T054633Z
UID:10001465-1768832100-1768838400@hedlandshs.wa.edu.au
SUMMARY:Specialist Arts Program
DESCRIPTION:
URL:https://hedlandshs.wa.edu.au/calendar/specialist-arts-program-3/2026-01-19/
END:VEVENT
BEGIN:VEVENT
DTSTART;TZID=Australia/Perth:20260120T141500
DTEND;TZID=Australia/Perth:20260120T160000
DTSTAMP:20260424T202520
CREATED:20240920T054331Z
LAST-MODIFIED:20240920T054331Z
UID:10001141-1768918500-1768924800@hedlandshs.wa.edu.au
SUMMARY:Coding Club & Makerspace
DESCRIPTION:
URL:https://hedlandshs.wa.edu.au/calendar/coding-club-makerspace-2/2026-01-20/
END:VEVENT
BEGIN:VEVENT
DTSTART;TZID=Australia/Perth:20260120T141500
DTEND;TZID=Australia/Perth:20260120T160000
DTSTAMP:20260424T202520
CREATED:20240920T054537Z
LAST-MODIFIED:20240920T054633Z
UID:10001466-1768918500-1768924800@hedlandshs.wa.edu.au
SUMMARY:Specialist Arts Program
DESCRIPTION:
URL:https://hedlandshs.wa.edu.au/calendar/specialist-arts-program-3/2026-01-20/
END:VEVENT
BEGIN:VEVENT
DTSTART;TZID=Australia/Perth:20260126T141500
DTEND;TZID=Australia/Perth:20260126T160000
DTSTAMP:20260424T202520
CREATED:20240920T054537Z
LAST-MODIFIED:20240920T054633Z
UID:10001467-1769436900-1769443200@hedlandshs.wa.edu.au
SUMMARY:Specialist Arts Program
DESCRIPTION:
URL:https://hedlandshs.wa.edu.au/calendar/specialist-arts-program-3/2026-01-26/
END:VEVENT
BEGIN:VEVENT
DTSTART;TZID=Australia/Perth:20260127T141500
DTEND;TZID=Australia/Perth:20260127T160000
DTSTAMP:20260424T202520
CREATED:20240920T054331Z
LAST-MODIFIED:20240920T054331Z
UID:10001142-1769523300-1769529600@hedlandshs.wa.edu.au
SUMMARY:Coding Club & Makerspace
DESCRIPTION:
URL:https://hedlandshs.wa.edu.au/calendar/coding-club-makerspace-2/2026-01-27/
END:VEVENT
BEGIN:VEVENT
DTSTART;TZID=Australia/Perth:20260127T141500
DTEND;TZID=Australia/Perth:20260127T160000
DTSTAMP:20260424T202520
CREATED:20240920T054537Z
LAST-MODIFIED:20240920T054633Z
UID:10001468-1769523300-1769529600@hedlandshs.wa.edu.au
SUMMARY:Specialist Arts Program
DESCRIPTION:
URL:https://hedlandshs.wa.edu.au/calendar/specialist-arts-program-3/2026-01-27/
END:VEVENT
END:VCALENDAR